BEGIN:VCALENDAR
VERSION:2.0
PRODID:-//ChamberMaster//Event Calendar 2.0//EN
METHOD:PUBLISH
X-PUBLISHED-TTL:P3D
REFRESH-INTERVAL:P3D
CALSCALE:GREGORIAN
BEGIN:VEVENT
DTSTART:20240614T160000Z
DTEND:20240614T230000Z
X-MICROSOFT-CDO-ALLDAYEVENT:FALSE
SUMMARY:Aligned Health Center 10 Year Anniversary Party
DESCRIPTION:Come help Aligned Health Center celebrate their 10 Year Anniversary! We will have games\, contests\, a food truck\, special guests and more! Too much to list here\, you will just have to stop by and join the party!
X-ALT-DESC;FMTTYPE=text/html:Come help Aligned Health Center celebrate their 10 Year Anniversary! We will have games\, contests\, a food truck\, special guests and more! Too much to list here\, you will just have to stop by and join the party!
LOCATION:Aligned Health Center - 26933 Westwood rd.\, Westlake\, Ohio 44145
UID:e.3438.2202
SEQUENCE:3
DTSTAMP:20260424T020805Z
URL:https://www.rockyriverchamber.com/events/details/aligned-health-center-10-year-anniversary-party-2202
END:VEVENT

END:VCALENDAR
