BEGIN:VCALENDAR
VERSION:2.0
PRODID:-//ChamberMaster//Event Calendar 2.0//EN
METHOD:PUBLISH
X-PUBLISHED-TTL:P3D
REFRESH-INTERVAL:P3D
CALSCALE:GREGORIAN
BEGIN:VEVENT
DTSTART:20220714T113000Z
DTEND:20220714T130000Z
X-MICROSOFT-CDO-ALLDAYEVENT:FALSE
SUMMARY:Brewing Business AM: DO-NUT Miss This Networking
DESCRIPTION:Talk about a sweet way to start your day - join the Rocky River Chamber for this early morning networking opportunity hosted by Bigmouth Donuts Co.  \n\n\n\nBe there for networking\, coffee - plus an adult "donut decoration" station!\n\nThank you to our host\, Bigmouth Donuts Co.!\n\n\n\nRSVP not required\, but encouraged
X-ALT-DESC;FMTTYPE=text/html:<br />\nTalk about a sweet way to start your day - join the Rocky River Chamber for this early morning networking opportunity hosted by Bigmouth Donuts Co.&nbsp\;&nbsp\;<br />\n<br />\nBe there for networking\, coffee - plus an adult &quot\;donut decoration&quot\; station!<br />\nThank you to our host\, <a href="https://www.bigmouthdonut.com/">Bigmouth Donuts Co.</a>!<br />\n<br />\nRSVP not required\, but encouraged<br />\n&nbsp\;
LOCATION:Bigmouth Donut Co. 19265 Detroit Road Rocky River 44116
UID:e.3438.572
SEQUENCE:3
DTSTAMP:20260425T161544Z
URL:https://www.rockyriverchamber.com/events/details/brewing-business-am-do-nut-miss-this-networking-572
END:VEVENT

END:VCALENDAR
