BEGIN:VCALENDAR
VERSION:2.0
PRODID:-//ChamberMaster//Event Calendar 2.0//EN
METHOD:PUBLISH
X-PUBLISHED-TTL:P3D
REFRESH-INTERVAL:P3D
CALSCALE:GREGORIAN
BEGIN:VEVENT
DTSTART:20220721T203000Z
DTEND:20220721T223000Z
X-MICROSOFT-CDO-ALLDAYEVENT:FALSE
SUMMARY:Brewing Business PM: "Christmas in July" 2022
DESCRIPTION:We are kicking-off the Holidays early with a festive networking opportunity at a "Christmas in July" Happy Hour at Around the Corner in Lakewood!\n\n\n\nJoin the Chamber and friends for networking on the ATC patio decked with Holiday decor. It will be ho-ho-hot outside\, but chilled Holiday-themed drinks will be available\, plus - score your chance to win 2 TICKETS to the Chamber's annual Christmas Party [mark your calendar for Thurs.\, Dec. 8th to not miss the Holiday cheer this year!].\n\n\n\nRegistration is not required for this event\, but encouraged to help our host prepare for our group.
X-ALT-DESC;FMTTYPE=text/html:<br />\n<strong>We are kicking-off the Holidays early with a festive networking opportunity at a &quot\;Christmas in July&quot\; Happy Hour at Around the Corner in Lakewood!</strong><br />\n<br />\nJoin the Chamber and friends for networking on the ATC patio decked with Holiday decor. It will be ho-ho-hot outside\, but chilled Holiday-themed drinks will be available\, plus - score your chance to win 2 TICKETS to the Chamber&#39\;s annual Christmas Party [mark your calendar for Thurs.\, Dec. 8th to not miss the Holiday cheer this year!].<br />\n<br />\n<em>Registration is not required for this event\, but encouraged to help our host prepare for our group.</em>
LOCATION:Around the Corner's "Christmas Patio" 18616 Detroit Avenue Lakewood 44107
UID:e.3438.574
SEQUENCE:3
DTSTAMP:20260425T155059Z
URL:https://www.rockyriverchamber.com/events/details/brewing-business-pm-christmas-in-july-2022-574
END:VEVENT

END:VCALENDAR
