BEGIN:VCALENDAR
VERSION:2.0
PRODID:-//ChamberMaster//Event Calendar 2.0//EN
METHOD:PUBLISH
X-PUBLISHED-TTL:P3D
REFRESH-INTERVAL:P3D
CALSCALE:GREGORIAN
BEGIN:VEVENT
DTSTART:20220301T210000Z
DTEND:20220301T230000Z
X-MICROSOFT-CDO-ALLDAYEVENT:FALSE
SUMMARY:Brewing Business PM: Fat Tuesday 2022
DESCRIPTION:We will gather for networking and a Fat Tuesday celebration with our sponsor\, Cox Business. The Happy Hour will be held on Tuesday\, March 1 at Burntwood Tavern in Rocky River.\n\n\n\nBe there for double the networking as we host this annual tradition in partnership with the Lakewood Chamber of Commerce!\n\n\n\nAppetizers will be provided by Cox Business\, beverage will be available to purchase on own. Burntwood will be featuring their Happy Hour specials for all attendees to enjoy!
X-ALT-DESC;FMTTYPE=text/html:We will gather for networking and a Fat Tuesday celebration with our sponsor\, Cox Business. The Happy Hour will be held on Tuesday\, March 1 at Burntwood Tavern in Rocky River.<br />\n<br />\nBe there&nbsp\;for double the networking as we host this annual tradition&nbsp\;in partnership with the Lakewood Chamber of Commerce!<br />\n<br />\nAppetizers will be provided by Cox Business\, beverage will be available to purchase on own. Burntwood will be featuring their Happy Hour specials for all attendees to enjoy!
LOCATION:Burntwood Tavern 19304 Detroit Road Rocky River 44116
UID:e.3438.552
SEQUENCE:3
DTSTAMP:20260425T230601Z
URL:https://www.rockyriverchamber.com/events/details/brewing-business-pm-fat-tuesday-2022-552
END:VEVENT

END:VCALENDAR
