BEGIN:VCALENDAR
VERSION:2.0
PRODID:-//ChamberMaster//Event Calendar 2.0//EN
METHOD:PUBLISH
X-PUBLISHED-TTL:P3D
REFRESH-INTERVAL:P3D
CALSCALE:GREGORIAN
BEGIN:VEVENT
DTSTART:20220504T203000Z
DTEND:20220504T223000Z
X-MICROSOFT-CDO-ALLDAYEVENT:FALSE
SUMMARY:Brewing Business PM: Meet Me at Market
DESCRIPTION:"Brew up new business" by joining the Rocky River Chamber for a Kentucky Derby themed happy hour at Market on Wednesday\, May 4\, 2022. Market is hosting the Chamber on the enclosed patio\, private to Chamber members + potential new members.\n\n\n\nComplimentary appetizers will be served by our host\, Market. Bar will be available to purchase beverages with Derby drinks specials + more.\n\n\n\n Derby hats are encouraged!\n\nRegistration is suggested for members + non-members. Bring your colleagues!\n\n \n\nPlease note: the Chamber will continue to follow the latest requirements from the Cuyahoga County Board of Health and our host venue.
X-ALT-DESC;FMTTYPE=text/html:<br />\n&quot\;Brew up new business&quot\; by joining the Rocky River Chamber for a Kentucky Derby themed happy hour at Market&nbsp\;on Wednesday\, May 4\, 2022.&nbsp\;Market is hosting the Chamber on the enclosed patio\, private to Chamber members + potential new members.<br />\n<br />\nComplimentary appetizers will be served by our host\, <a href="https://www.rockyriverchamber.com/list/member/market-1783">Market</a>. Bar will be available to purchase beverages with Derby drinks specials + more.<br />\n<br />\n&#8203\;<em>Derby hats are encouraged!</em><br />\nRegistration is suggested for members + non-members. Bring your colleagues!<br />\n&nbsp\;<br />\nPlease note: the Chamber will continue to follow the latest requirements from the Cuyahoga County Board of Health and our host venue.
LOCATION:Market 1137 Linda Street Rocky River 44116
UID:e.3438.560
SEQUENCE:3
DTSTAMP:20260425T193739Z
URL:https://www.rockyriverchamber.com/events/details/brewing-business-pm-meet-me-at-market-560
END:VEVENT

END:VCALENDAR
