BEGIN:VCALENDAR
VERSION:2.0
PRODID:-//ChamberMaster//Event Calendar 2.0//EN
METHOD:PUBLISH
X-PUBLISHED-TTL:P3D
REFRESH-INTERVAL:P3D
CALSCALE:GREGORIAN
BEGIN:VEVENT
DTSTART:20220609T203000Z
DTEND:20220609T223000Z
X-MICROSOFT-CDO-ALLDAYEVENT:FALSE
SUMMARY:Brewing Business PM: Patio Party
DESCRIPTION:Brew-up business at the Ferris Steakhouse while enjoying cocktails on the Patio!\n\n\n\nIt's patio season! Join the Chamber for cocktails\, conversation\, and fresh air!  Happy hour will feature complimentary appetizers by our host\, Ferris Steakhouse + Tavern. Great eats\, plus drinks + high quality networking!\n\n\n\nRegistration not required but\, highly encouraged. \n\nMembers + non-members welcome.
X-ALT-DESC;FMTTYPE=text/html:<br />\n<strong>Brew-up business at the Ferris Steakhouse while enjoying cocktails on the Patio!</strong><br />\n<br />\nIt&#39\;s patio season! Join the Chamber for cocktails\, conversation\, and fresh air!&nbsp\; Happy hour will feature complimentary appetizers by our host\, Ferris Steakhouse + Tavern. Great eats\, plus drinks + high quality networking!<br />\n<br />\n<strong>Registration not required but\, highly encouraged.&nbsp\;</strong><br />\n<em>Members + non-members welcome.</em>
LOCATION:Ferris Steakhouse + Tavern 2589 Wooster Road Rocky River 44116
UID:e.3438.570
SEQUENCE:3
DTSTAMP:20260425T173805Z
URL:https://www.rockyriverchamber.com/events/details/brewing-business-pm-patio-party-570
END:VEVENT

END:VCALENDAR
