BEGIN:VCALENDAR
VERSION:2.0
PRODID:-//ChamberMaster//Event Calendar 2.0//EN
METHOD:PUBLISH
X-PUBLISHED-TTL:P3D
REFRESH-INTERVAL:P3D
CALSCALE:GREGORIAN
BEGIN:VEVENT
DTSTART:20220225T230000Z
DTEND:20220226T030000Z
X-MICROSOFT-CDO-ALLDAYEVENT:FALSE
SUMMARY:Centennial Celebration
DESCRIPTION:We are going to party like it's 1922!\n\nJoin the Rocky River Chamber to commemorate our 100th anniversary on Friday\, February 25\, 2022. We will gather for a roaring '20's themed soiree at the Cleveland Yachting Club - taking it back to when it all began!\n\n\n\nThere will be dinner\, drinks and memories shared\, plus entertainment and more upstairs at CYC.\n\nEvent capacity is set to only 200 guests\, so do not wait and secure your tickets today! \n\n'20's attire is encouraged\, but not required for the celebration.\n\n\n\nThe Rocky River Chamber is puttin' on the ritz\, and you won't want to miss it!\n\nView our sponsorship and ticket Information below:\n\nThe Great Gatsby Presenting Sponsorship - $2\,500\n\nIncludes 10 party tickets\, 1 candle on our life-size cake + more!\n\n \n\nThe Bee's Knees Sponsorship - $1\,250\n\nIncludes 6 party tickets\, 1 candle on our life-size cake + more!\n\n \n\nThe Cat's Pajama's Sponsorship - $650\n\nIncludes 4 party tickets\, 1 candle on our life-size cake + more!\n\n \n\nThe Bootlegger Sponsorship - $350\n\nIncludes 2 party tickets\, 1 candle on our life-size cake + more!\n\n \n\nIndividual Party Tickets - $100\n\nTicket price includes 2 drink tickets\, dinner\, and entertainment.\n\n \n\nLooking for extra exposure? Or\, are you unable to attend the party\, but still wish to have a presence there?\n\nConsider sponsoring 1 of the only 100 candles on our life size centennial cake!\n\nCandle Sponsor - $50\n\n\n\nIn addition to our soiree at CYC\, the Chamber will also be burying a time capsule. This time capsule will be reopened in 25 years from our 100th anniversary. Email the Chamber to learn more about this opportunity to be part of history!
X-ALT-DESC;FMTTYPE=text/html:<p><strong>We are going to party like it&#39\;s 1922!</strong><br />\nJoin the Rocky River Chamber to commemorate our 100th anniversary on Friday\, February 25\, 2022. We will gather for a roaring &#39\;20&#39\;s themed soiree at the Cleveland Yachting Club - taking it back to when it all began!<br />\n<br />\nThere will be dinner\, drinks and memories shared\, plus entertainment and more upstairs at CYC.<br />\nEvent capacity is set to only 200 guests\, so do not wait and secure your tickets today!&nbsp\;<br />\n&#39\;20&#39\;s attire is encouraged\, but not required for the celebration.<br />\n<br />\n<em><strong>The Rocky River Chamber is puttin&#39\; on the ritz\, and you won&#39\;t want to miss it!</strong></em><br />\nView our sponsorship and ticket Information below:</p>\n\n<div><strong>The Great Gatsby Presenting Sponsorship - $2\,500</strong></div>\n\n<div><strong>Includes 10 party tickets\, 1 candle on our life-size cake + more!</strong></div>\n\n<div>&nbsp\;</div>\n\n<div><strong>The Bee&#39\;s Knees Sponsorship - $1\,250</strong></div>\n\n<div>Includes 6 party tickets\, 1 candle on our life-size cake + more!</div>\n\n<div>&nbsp\;</div>\n\n<div><strong>The Cat&#39\;s Pajama&#39\;s Sponsorship - $650</strong></div>\n\n<div>Includes 4 party tickets\, 1 candle on our life-size cake + more!</div>\n\n<div>&nbsp\;</div>\n\n<div><strong>The Bootlegger Sponsorship - $350</strong></div>\n\n<div>Includes 2 party tickets\, 1 candle on our life-size cake + more!</div>\n\n<div>&nbsp\;</div>\n\n<div><strong>Individual Party Tickets - $100</strong></div>\n\n<div>Ticket price includes 2 drink tickets\, dinner\, and entertainment.</div>\n\n<div>&nbsp\;</div>\n\n<div>Looking for extra exposure? Or\, are you unable to attend the party\, but still wish to have a presence there?</div>\n\n<div>Consider sponsoring 1 of the&nbsp\;<em>only&nbsp\;</em>100 candles on our life size centennial cake!</div>\n\n<div><strong>Candle Sponsor - $50</strong><br />\n<br />\nIn addition to our soiree at CYC\, the Chamber will also be burying a time capsule. This time capsule will be reopened in 25 years from our 100th anniversary. <a href="mailto:angela@rockyriverchamber.com?subject=Centennial%20Time%20Capsule">Email </a>the Chamber to learn more about this opportunity to be part of history!</div>\n
LOCATION:Cleveland Yachting Club 200 Yacht Club Drive Rocky River 44116
UID:e.3438.537
SEQUENCE:3
DTSTAMP:20260426T004655Z
URL:https://www.rockyriverchamber.com/events/details/centennial-celebration-537
END:VEVENT

END:VCALENDAR
