BEGIN:VCALENDAR
VERSION:2.0
PRODID:-//ChamberMaster//Event Calendar 2.0//EN
METHOD:PUBLISH
X-PUBLISHED-TTL:P3D
REFRESH-INTERVAL:P3D
CALSCALE:GREGORIAN
BEGIN:VEVENT
DTSTART:20220511T200000Z
DTEND:20220511T220000Z
X-MICROSOFT-CDO-ALLDAYEVENT:FALSE
SUMMARY:Centennial Time Capsule Dedication + Happy Hour
DESCRIPTION:Join the Rocky River Chamber of Commerce as we host a Time Capsule Dedication Ceremony to celebrate the chamber's 100th Anniversary.  Be a part of history in the making as we encapsulate 2022!\n\n \n\nMembers and guests are welcome to join us at Behind the Woods on Wednesday\, May 11\, 2022.\n\n\n\nComplimentary appetizers and a champagne toast will be provided as we will encapsulate 2022 as a Chamber!  The event will commemorate 100 years of excellence and preserve a snapshot of our centennial year as well as leave a mark for generations to come.\n\n\n\nThe Happy Hour will include brief comments on the history of the Chamber\, followed by a champagne toast for the time capsule dedication ceremony. All attendees will have the special opportunity to browse items that will be included in the time capsule.\n\n\n\nSpecial thanks to Zeis-McGreevey Funeral Service\, our time capsule sponsor.\n\n\n\nRSVP is highly encouraged.
X-ALT-DESC;FMTTYPE=text/html:<p style="box-sizing: border-box\; margin-bottom: var(--tec-spacer-3)\; font-size: var(--tec-font-size-4)\; line-height: var(--tec-line-height-2)\; color: rgb(20\, 24\, 39)\; font-family: &quot\;Helvetica Neue&quot\;\, Helvetica\, -apple-system\, BlinkMacSystemFont\, Roboto\, Arial\, sans-serif\;"><br />\n<strong>Join the Rocky River Chamber of Commerce as we host&nbsp\;a Time Capsule Dedication Ceremony to celebrate the chamber&#39\;s 100th Anniversary.&nbsp\;</strong> <em>Be a part of history in the making as we encapsulate 2022!</em><br />\n&nbsp\;</p>\n\n<p style="box-sizing: border-box\; margin-bottom: var(--tec-spacer-3)\; font-size: var(--tec-font-size-4)\; line-height: var(--tec-line-height-2)\; color: rgb(20\, 24\, 39)\; font-family: &quot\;Helvetica Neue&quot\;\, Helvetica\, -apple-system\, BlinkMacSystemFont\, Roboto\, Arial\, sans-serif\;">Members and guests are welcome to join us at&nbsp\;Behind the Woods&nbsp\;on <strong>Wednesday\, May 11\, 2022.</strong></p>\n\n<p style="box-sizing: border-box\; margin-bottom: var(--tec-spacer-3)\; font-size: var(--tec-font-size-4)\; line-height: var(--tec-line-height-2)\; color: rgb(20\, 24\, 39)\; font-family: &quot\;Helvetica Neue&quot\;\, Helvetica\, -apple-system\, BlinkMacSystemFont\, Roboto\, Arial\, sans-serif\;"><br />\nComplimentary appetizers and a champagne toast will be provided as we will encapsulate 2022 as a Chamber!&nbsp\; The event will commemorate 100 years of excellence and preserve a snapshot of our centennial year&nbsp\;as well as leave a mark for generations to come.</p>\n\n<p style="box-sizing: border-box\; margin-bottom: var(--tec-spacer-3)\; font-size: var(--tec-font-size-4)\; line-height: var(--tec-line-height-2)\; color: rgb(20\, 24\, 39)\; font-family: &quot\;Helvetica Neue&quot\;\, Helvetica\, -apple-system\, BlinkMacSystemFont\, Roboto\, Arial\, sans-serif\;"><br />\nThe Happy Hour will include brief comments on the history of the Chamber\, followed by a champagne toast for the&nbsp\;time capsule dedication ceremony. All attendees will have the special opportunity to browse items that will be included in the time capsule.<br />\n<br />\nSpecial thanks to <strong><a href="https://www.rockyriverchamber.com/list/member/zeis-mcgreevey-funeral-service-265">Zeis-McGreevey Funeral Service</a>\,</strong> our time capsule sponsor.<br />\n<br />\nRSVP is highly encouraged.</p>\n
LOCATION:Behind the Woods at The Woods 21919 Center Ridge Road Rocky River 44116
UID:e.3438.540
SEQUENCE:3
DTSTAMP:20260425T191809Z
URL:https://www.rockyriverchamber.com/events/details/centennial-time-capsule-dedication-happy-hour-540
END:VEVENT

END:VCALENDAR
