BEGIN:VCALENDAR
VERSION:2.0
PRODID:-//ChamberMaster//Event Calendar 2.0//EN
METHOD:PUBLISH
X-PUBLISHED-TTL:P3D
REFRESH-INTERVAL:P3D
CALSCALE:GREGORIAN
BEGIN:VEVENT
DTSTART:20230714T163000Z
DTEND:20230714T173000Z
X-MICROSOFT-CDO-ALLDAYEVENT:FALSE
SUMMARY:Chamber Ice Cream Social
DESCRIPTION:Here's the scoop...\n\n\n\nWe all need a little something sweet sometimes\, so meet us at Mitchell Brothers Ice Cream for a fun Friday treat! Mitchell's in Rocky River is welcoming all Chamber members with a special $1.00 off your ice cream opportunity.\n\n\n\nCan you think of a better summertime networking spot in our community?! We can't either! \n\nCome chill with the Chamber to connect + enjoy summer with a cold scoop of Mitchell's Homemade Ice Cream!\n\n\n\nRSVP not required\, but encouraged.
X-ALT-DESC;FMTTYPE=text/html:<p><br />\n<em>Here&#39\;s the <strong>scoop</strong>...</em><br />\n<br />\nWe all need a little something sweet sometimes\, so&nbsp\;meet us at <a href="https://www.rockyriverchamber.com/list/member/mitchell-brothers-ice-cream-inc-155">Mitchell Brothers Ice Cream</a> for a fun Friday treat! Mitchell&#39\;s&nbsp\;in Rocky River&nbsp\;is welcoming all Chamber members with a special <u>$1.00 off</u>&nbsp\;your ice cream opportunity.<br />\n<br />\nCan you think of a better summertime networking spot in our community?! <em>We can&#39\;t either!</em>&nbsp\;<br />\nCome <em>chill </em>with&nbsp\;the Chamber to connect&nbsp\;+ enjoy summer with a cold scoop of Mitchell&#39\;s Homemade Ice Cream!<br />\n<br />\n<em>RSVP not required\, but encouraged.</em><br />\n&nbsp\;</p>\n
LOCATION:Mitchell Brothers Ice Cream 19700 Detroit Road Rocky River 44116
UID:e.3438.703
SEQUENCE:3
DTSTAMP:20260424T194332Z
URL:https://www.rockyriverchamber.com/events/details/chamber-ice-cream-social-703
END:VEVENT

END:VCALENDAR
