BEGIN:VCALENDAR
VERSION:2.0
PRODID:-//ChamberMaster//Event Calendar 2.0//EN
METHOD:PUBLISH
X-PUBLISHED-TTL:P3D
REFRESH-INTERVAL:P3D
CALSCALE:GREGORIAN
BEGIN:VEVENT
DTSTART:20220428T153000Z
DTEND:20220428T173000Z
X-MICROSOFT-CDO-ALLDAYEVENT:FALSE
SUMMARY:Chamber Luncheon - April 2022
DESCRIPTION:Join us for the April Chamber Luncheon\, sponsored by Tomorrows A Salon.\n\n\n\nWe are honored to welcome Mayor Pam Bobst for the annual "State of the City" address this month. Please join us for this highly anticipated presentation focused on our community.  Mayor Bobst will touch on: economic community development and strategic planning\, our financial position\, including investments within the city\, and highlight opportunities and resources for local businesses and innovators.\n\n\n\nEnjoy an afternoon of networking and information with the Rocky River Chamber!\n\n\n\nMeal selections include:\n\nPepper Steak\n\nGrilled Chicken Salad\n\nVegetable Stir Fry\n\n\n\nMore about our guest speaker\, Mayor Pam Bobst:\n\nMayor Pamela Bobst has served the City of Rocky River since June 2006. However her service to the City started long before that\, serving on the Rocky River City Council as President and as President Pro Tem\, serving as a Councilmember from 1996 to 2006. In addition to leading Rocky River\, Mayor Bobst is very active within the community. Additional activities include: board member of the Cuyahoga County Planning Commission and the Northeast Ohio Areawide Coordinating Agency\, treasurer on the Executive Committee and as Chair\, Legislative Affairs Committee of Cuyahoga County Mayors and City Managers Association.  In April of 2021\, Governor DeWine appointed her to the Kent State University Board of Trustees.\n\n \n\nMayor Bobst received her M.Ed. in Community Health Education from Kent State University\, her B.A. in Health Care Access/Public Health from Northeastern Illinois University\, and her Dental Hygiene\, G.D.H. from the University of Minnesota.
X-ALT-DESC;FMTTYPE=text/html:<p>Join us for the April Chamber Luncheon\, sponsored by Tomorrows A Salon.<br />\n<br />\nWe are honored to welcome Mayor Pam Bobst for the annual &ldquo\;State of the City&rdquo\; address this month. Please join us for this highly anticipated presentation focused on our community.&nbsp\; Mayor Bobst will touch on: economic community development and strategic planning\, our financial position\, including investments within the city\, and highlight opportunities and resources for local businesses and innovators.<br />\n<br />\nEnjoy an afternoon of networking and information with the Rocky River Chamber!<br />\n<br />\nMeal selections include:<br />\nPepper Steak<br />\nGrilled Chicken Salad<br />\nVegetable Stir Fry<br />\n<br />\n<em><strong>More about our guest speaker\, Mayor Pam Bobst:</strong><br />\nMayor Pamela Bobst has served the City of Rocky River since June 2006. However her service to the City started long before that\, serving on the Rocky River City Council as President&nbsp\;and as President Pro Tem\, serving as a Councilmember from 1996 to 2006. In addition to leading Rocky River\, Mayor Bobst is very active within the community. Additional activities include: board member of the Cuyahoga County Planning Commission and the Northeast Ohio Areawide Coordinating Agency\, treasurer on the Executive Committee and as Chair\, Legislative Affairs Committee of Cuyahoga County Mayors and City Managers Association.&nbsp\; In April of 2021\, Governor DeWine appointed her to the Kent State University Board of Trustees.<br />\n&nbsp\;<br />\nMayor Bobst received her M.Ed. in Community Health Education from Kent State University\, her B.A. in Health Care Access/Public Health from Northeastern Illinois University\, and her Dental Hygiene\, G.D.H. from the University of Minnesota.</em><br />\n&nbsp\;</p>\n
LOCATION:Westwood Country Club 22625 Detroit Road Rocky River 44116
UID:e.3438.553
SEQUENCE:3
DTSTAMP:20260425T225029Z
URL:https://www.rockyriverchamber.com/events/details/chamber-luncheon-april-2022-553
END:VEVENT

END:VCALENDAR
