BEGIN:VCALENDAR
VERSION:2.0
PRODID:-//ChamberMaster//Event Calendar 2.0//EN
METHOD:PUBLISH
X-PUBLISHED-TTL:P3D
REFRESH-INTERVAL:P3D
CALSCALE:GREGORIAN
BEGIN:VEVENT
DTSTART:20230427T153000Z
DTEND:20230427T173000Z
X-MICROSOFT-CDO-ALLDAYEVENT:FALSE
SUMMARY:Chamber Luncheon - April 2023
DESCRIPTION:Join us for the April Chamber Luncheon\, as the tradition continues!\n\n\n\nAlong with our sponsor\, The Normandy Senior Living\, we are honored to welcome Mayor Pam Bobst for the annual "State of the City" address this month. Please join us for this highly anticipated presentation focused on our community.  \n\n\n\nMeal selections to include:\n\nRosemary Chicken with Risotto\n\nSalmon Spinach Salad\n\nVegetable Stir Fry\n\n\n\n\n\nMore about our guest speaker\, Mayor Pam Bobst:\n\nMayor Pamela Bobst has served the City of Rocky River since June 2006. However her service to the City started long before that\, serving on the Rocky River City Council as President and as President Pro Tem\, serving as a Councilmember from 1996 to 2006. In addition to leading Rocky River\, Mayor Bobst is very active within the community. Additional activities include: board member of the Cuyahoga County Planning Commission and the Northeast Ohio Areawide Coordinating Agency\, treasurer on the Executive Committee and as Chair\, Legislative Affairs Committee of Cuyahoga County Mayors and City Managers Association.  In April of 2021\, Governor DeWine appointed her to the Kent State University Board of Trustees.\n\n \n\nMayor Bobst received her M.Ed. in Community Health Education from Kent State University\, her B.A. in Health Care Access/Public Health from Northeastern Illinois University\, and her Dental Hygiene\, G.D.H. from the University of Minnesota.
X-ALT-DESC;FMTTYPE=text/html:<p>Join us for the April Chamber Luncheon\, as the tradition continues!<br />\n<br />\nAlong with our sponsor\, <a href="https://www.rockyriverchamber.com/list/member/normandy-senior-living-231">The Normandy Senior Living</a>\, we are honored to welcome Mayor Pam Bobst for the annual &ldquo\;State of the City&rdquo\; address this month. Please join us for this highly anticipated presentation focused on our community.&nbsp\;&nbsp\;<br />\n<br />\n<em>Meal selections to include:<br />\nRosemary Chicken with Risotto<br />\nSalmon Spinach Salad<br />\nVegetable Stir Fry</em><br />\n<br />\n<br />\n<em><strong>More about our guest speaker\, Mayor Pam Bobst:</strong><br />\nMayor Pamela Bobst has served the City of Rocky River since June 2006. However her service to the City started long before that\, serving on the Rocky River City Council as President&nbsp\;and as President Pro Tem\, serving as a Councilmember from 1996 to 2006. In addition to leading Rocky River\, Mayor Bobst is very active within the community. Additional activities include: board member of the Cuyahoga County Planning Commission and the Northeast Ohio Areawide Coordinating Agency\, treasurer on the Executive Committee and as Chair\, Legislative Affairs Committee of Cuyahoga County Mayors and City Managers Association.&nbsp\; In April of 2021\, Governor DeWine appointed her to the Kent State University Board of Trustees.<br />\n&nbsp\;<br />\nMayor Bobst received her M.Ed. in Community Health Education from Kent State University\, her B.A. in Health Care Access/Public Health from Northeastern Illinois University\, and her Dental Hygiene\, G.D.H. from the University of Minnesota.</em></p>\n
LOCATION:Westwood Country Club 22625 Detroit Road Rocky River 44116
UID:e.3438.661
SEQUENCE:3
DTSTAMP:20260424T232358Z
URL:https://www.rockyriverchamber.com/events/details/chamber-luncheon-april-2023-661
END:VEVENT

END:VCALENDAR
