BEGIN:VCALENDAR
VERSION:2.0
PRODID:-//ChamberMaster//Event Calendar 2.0//EN
METHOD:PUBLISH
X-PUBLISHED-TTL:P3D
REFRESH-INTERVAL:P3D
CALSCALE:GREGORIAN
BEGIN:VEVENT
DTSTART:20220331T153000Z
DTEND:20220331T173000Z
X-MICROSOFT-CDO-ALLDAYEVENT:FALSE
SUMMARY:Chamber Luncheon - March 2022
DESCRIPTION:You will NOT want to miss this event\, join us for the Rocky River Chamber March Chamber Luncheon!\n\nSponsored by Kemper Cognitive Wellness\, we will welcome guest speaker Jeff Charney\, presenting "Marketing: A Brave New World."\n\n\n\nAfter over four years away from the Chamber of Commerce stage\, Jeff Charney\, CMO of Progressive Insurance\, will return on Thursday\, March 31 with an unparalleled and unapologetic look into the hyper-competitive\, ever-evolving world of marketing.\n\n \n\nThe recently named Ad Age 2021 "Brand CMO of the Year" will bring his unmistakably high-energy\, fast-paced\, and interactive style to deliver a provocative\, in-your-face presentation - "Marketing: A Brave New World."\n\n \n\nAs you might know\, in 2021\, Charney announced his planned retirement from Progressive in early 2022. In addition to giving us a first glimpse into his next marketing venture\, Charney will also explore the bravery necessary to compete in a marketplace that?s full of noise. His presentation will challenge you\, whether you're a one-person business\, ten-person startup\, or 10\,000 employees strong.\n\n \n\nGet ready to be brave?this won?t be for the faint of heart. Buckle up!\n\n\n\nThis event will be held at the Emerald Event Center\, and a large crowd is expected. Secure your seat TODAY!\n\n\n\nMeal selections this month include: \n\n1.) Panko Crusted Chicken\n\n2.) Asian Shrimp Salad\n\n3.) Vegetarian Pasta-Grilled Vegetables\n\n\n\nONLINE REGISTRATION IS NOW CLOSED: Limited seats still available\, call the Chamber Office today to register!
X-ALT-DESC;FMTTYPE=text/html:You will NOT want to miss this event\, join us for the Rocky River Chamber March Chamber Luncheon!<br />\nSponsored by <strong>Kemper Cognitive Wellness</strong>\, we will welcome guest speaker <strong>Jeff Charney\,</strong>&nbsp\;presenting <strong>&quot\;Marketing: A Brave New World.&quot\;</strong><br />\n<br />\nAfter over four years away from the Chamber of Commerce stage\, Jeff Charney\, CMO of Progressive Insurance\, will return on Thursday\, March 31 with an unparalleled and unapologetic look into the hyper-competitive\, ever-evolving world of marketing.<br />\n&nbsp\;<br />\nThe recently named&nbsp\;<strong>Ad Age&nbsp\;2021 &quot\;Brand CMO of the Year&quot\;</strong> will bring his unmistakably high-energy\, fast-paced\, and interactive style to deliver a provocative\, in-your-face presentation - &quot\;Marketing: A Brave New World.&quot\;<br />\n&nbsp\;<br />\nAs you might know\, in 2021\, Charney announced his planned retirement from Progressive in early 2022. In addition to giving us a first glimpse into his next marketing venture\, Charney will also explore the bravery necessary to compete in a marketplace that?s full of noise. His presentation will challenge you\, whether you&#39\;re a one-person business\, ten-person startup\, or 10\,000 employees strong.<br />\n&nbsp\;<br />\nGet ready to be brave?this won?t be for the faint of heart.<em> Buckle up!</em><br />\n<br />\nThis event will be held at the Emerald Event Center\, and a large crowd is expected. Secure your seat TODAY!<br />\n<br />\nMeal selections this month include:&nbsp\;<br />\n1.) Panko Crusted Chicken<br />\n2.) Asian Shrimp Salad<br />\n3.) Vegetarian&nbsp\;Pasta-Grilled Vegetables<br />\n<br />\n<strong>ONLINE REGISTRATION IS NOW CLOSED:&nbsp\;<span style="font-family:calibri\,sans-serif\;"><span style="font-size:11.0pt\;">Limited seats still available\, call the Chamber Office today to register!</span></span></strong>
LOCATION:Residence Inn / Emerald Event Center 33040 Just Imagine Drive Avon 44011
UID:e.3438.538
SEQUENCE:3
DTSTAMP:20260426T004755Z
URL:https://www.rockyriverchamber.com/events/details/chamber-luncheon-march-2022-538
END:VEVENT

END:VCALENDAR
