BEGIN:VCALENDAR
VERSION:2.0
PRODID:-//ChamberMaster//Event Calendar 2.0//EN
METHOD:PUBLISH
X-PUBLISHED-TTL:P3D
REFRESH-INTERVAL:P3D
CALSCALE:GREGORIAN
BEGIN:VEVENT
DTSTART:20220519T153000Z
DTEND:20220519T173000Z
X-MICROSOFT-CDO-ALLDAYEVENT:FALSE
SUMMARY:Chamber Luncheon - May 2022
DESCRIPTION:The Rocky River Chamber and May Luncheon Sponsor CapWell Financial Advisors are pleased to welcome guest speaker: R.J. Arhar\, Author and President of Starfish Computer presenting "The Five Things to do Right Now to Protect Your Business or Organization from Cyber Attacks." \n\n\n\nArhar's presentation will cover the areas where businesses and organizations are most vulnerable to cyber-attacks and the five things that can be done right now to greatly enhance cybersecurity. The recommendations will be covered in detail for all to benefit from\, for all levels. Topics will include multi-factor authentication (MFA)\, backup and disaster recovery best practices\, security awareness training (SAT) for employees\, antivirus filtering and monitoring\, and advanced threat protection services.\n\n \n\nMeal selections included:\n\nBroccoli Mac & Cheese with Breaded Chicken\n\nSpinach Salad with Grilled Salmon\n\nEggplant Parmesan\n\n\n\nMore about our guest speaker\, R.J. Arhar:\n\nR.J. Arhar started Starfish Computer Corporation\, a complete technology solution provider\, in 1994. R.J. previously was the IT Director for an international security company headquartered in northeast Ohio. He was responsible for IT systems supporting 8\,000 employees. He is a degreed engineer with graduate studies in information systems and computer engineering from CASE Western Reserve University. He holds many industry wide certifications including Microsoft Certified Systems Engineer and HP Accredited System Engineer. Starfish Computer Corporation was recognized by Microsoft for its innovative security solution protecting its clients' networks. The Company continues to grow its security practice using industry best practices and advanced testing systems to protect its clients' networks from cybersecurity problems. Mr. Arhar just finished authoring his first book on cybersecurity entitled "Attack or Defend - When is Enough Cybersecurity Enough?".
X-ALT-DESC;FMTTYPE=text/html:The Rocky River Chamber and May Luncheon Sponsor <a href="https://www.rockyriverchamber.com/list/member/capwell-financial-advisors-3847">CapWell Financial Advisors</a> are pleased to welcome guest speaker: R.J. Arhar\, Author and President of Starfish Computer presenting<strong> &quot\;The Five Things to do Right Now to Protect Your Business or Organization from Cyber Attacks.&quot\;&nbsp\;</strong><br />\n<br />\nArhar&#39\;s presentation will cover the areas where businesses and organizations are most vulnerable to cyber-attacks&nbsp\;and the five things that can be done right now to greatly enhance cybersecurity. The recommendations will be covered in detail for all to benefit from\, for all levels. Topics will include multi-factor authentication (MFA)\, backup and disaster recovery best practices\, security awareness training (SAT) for employees\, antivirus filtering and monitoring\, and advanced threat protection services.<br />\n&nbsp\;<br />\nMeal selections included:<br />\nBroccoli Mac &amp\; Cheese with Breaded Chicken<br />\nSpinach Salad with Grilled Salmon<br />\nEggplant Parmesan<br />\n<br />\n<em><strong>More about our guest speaker\, R.J. Arhar:</strong></em><br />\n<em>R.J. Arhar started Starfish Computer Corporation\, a complete technology solution provider\, in 1994. R.J. previously was the IT Director for an international security company headquartered in northeast Ohio. He was responsible for IT systems supporting 8\,000 employees. He is a degreed engineer with graduate studies in information systems and computer engineering from CASE Western Reserve University. He holds many industry wide certifications including Microsoft Certified Systems Engineer and HP Accredited System Engineer. Starfish Computer Corporation was recognized by Microsoft for its innovative security solution protecting its clients&#39\; networks. The Company continues to grow its security practice using industry best practices and advanced testing systems to protect its clients&#39\; networks from cybersecurity problems. Mr. Arhar just finished authoring his first book on cybersecurity entitled &quot\;Attack or Defend - When is Enough Cybersecurity Enough?&quot\;.</em><br />\n&nbsp\;
LOCATION:Westwood Country Club 22625 Detroit Road Rocky River 44116
UID:e.3438.563
SEQUENCE:3
DTSTAMP:20260425T193046Z
URL:https://www.rockyriverchamber.com/events/details/chamber-luncheon-may-2022-563
END:VEVENT

END:VCALENDAR
