BEGIN:VCALENDAR
VERSION:2.0
PRODID:-//ChamberMaster//Event Calendar 2.0//EN
METHOD:PUBLISH
X-PUBLISHED-TTL:P3D
REFRESH-INTERVAL:P3D
CALSCALE:GREGORIAN
BEGIN:VEVENT
DTSTART:20250529T153000Z
DTEND:20250529T173000Z
X-MICROSOFT-CDO-ALLDAYEVENT:FALSE
SUMMARY:Chamber Luncheon - May 2025
DESCRIPTION:Welcome to the May Luncheon Sponsored by Goldman Sachs 10\,000 Small Businesses! We are back at Westwood Country Club with our guest speaker\, Joe Smucny\, Vice President and Partner at Centric Consulting. Joe will be sharing how to best sell yourself and your business while networking in todays business landscape. \n\n\n\nAbout Joe: \n\nJoe Smucny serves as National Vice President and Partner at Centric Consulting\, leading business unit growth. With a career spanning over three decades\, he has guided organizations through transformative changes in strategy\, technology\, and operations - always with a focus on people first.  His experience includes roles such as Chief Information Officer at Cuyahoga Community College and leadership positions at Accenture\, Brulant\, and PerceptIS. Joe's passion lies in helping businesses grow by articulating their unique value propositions and empowering teams to confidently convey their stories to clients and stakeholders. \n\n \n\nJoe is a lifelong Clevelander and strong advocate for our region\, and beyond his professional endeavors he is deeply committed to the community. He actively participates in Cleveland Leadership Center activities (CBB '02\, LC '16) Greater Cleveland Partnership Tech Leaders\, and sits on several non-profit boards.\n\n \n\nJoe didn't set out to work in sales\, but he learned early on that success comes from asking great questions\, listening well\, building trust\, and connecting authentically. Over the years\, he's coached professionals\, grown teams\, and helped clients tell their stories in ways that resonate and drive results.\n\n\n\nMeals to include:\n\nFettuccini Alfredo with Chicken Parmesan\n\nNicoise Salad with Tuna and Vegetables\n\nPressed Hummus & Vegetable Wrap with Macaroni Salad\n\nVegan: Vegetable Plate\n\n\n\n\n\nDoors open for networking at 11:30AM\n\nPresentation & Lunch at 12:00PM\n\n\n\nMembers:\n\n$30 pp if reservation are made before 9AM on May 26th\n\nNon- Members:   \n\n$35 pp if reservation are made before 9AM on May 26th\n\n\n\nRegistration Deadline: Monday\, May 26th at 9AM\n\nCancellation Deadline: by May 26th at 9AM to receive a refund.\n\n\n\nCANCELLATION POLICY: If you need to cancel\, you must do so before 9AM on the Monday before the luncheon to receive a refund.
X-ALT-DESC;FMTTYPE=text/html:<div style="text-align: center\;">&nbsp\;</div>\n\n<div style="text-align: center\;"><br />\n<span style="font-family:verdana\;"><span style="font-size:18px\;">Welcome to&nbsp\;the May Luncheon Sponsored by <strong><u>Goldman Sachs 10\,000 Small Businesses</u></strong>! We are back at Westwood Country Club with our&nbsp\;guest speaker\, Joe Smucny\, Vice President and Partner at Centric Consulting. Joe will be sharing how to best sell yourself and your business while networking in todays business landscape.&nbsp\;<br />\n<br />\nAbout Joe:&nbsp\;<br />\n<span style="background:white\;"><span style="color:black\;">Joe Smucny serves as National Vice President and Partner at Centric Consulting\, leading business unit growth. With a career spanning over three decades\, he has guided organizations through transformative changes in strategy\, technology\, and operations - always with a focus on people first.&nbsp\; His experience includes roles such as Chief Information Officer at Cuyahoga Community College and leadership positions at Accenture\, Brulant\, and PerceptIS. Joe&#39\;s passion lies in helping businesses grow by articulating their unique value propositions and empowering teams to confidently convey their stories to clients and stakeholders.&#8203\;</span></span><br />\n&nbsp\;<br />\n<span style="color:black\;">Joe is a lifelong Clevelander and strong advocate for our region\, and beyond his professional endeavors he is deeply committed to the community. He actively participates in Cleveland Leadership Center activities (CBB &#39\;02\, LC &#39\;16) Greater Cleveland Partnership Tech Leaders\, and sits on several non-profit boards.</span><br />\n&nbsp\;<br />\n<span style="background:white\;"><span style="color:black\;">Joe didn&rsquo\;t set out to work in sales\, but he learned early on that success comes from asking great questions\, listening well\, building trust\, and connecting authentically. Over the years\, he&rsquo\;s coached professionals\, grown teams\, and helped clients tell their stories in ways that resonate and drive results.</span></span><br />\n<br />\nMeals to include:<br />\nFettuccini Alfredo with Chicken Parmesan<br />\nNicoise Salad with Tuna and Vegetables<br />\nPressed Hummus &amp\; Vegetable Wrap with Macaroni Salad<br />\nVegan: Vegetable Plate<br />\n<br />\n<br />\n<span style="letter-spacing: 0.4pt\; background: rgb(243\, 243\, 243)\;">Doors open for networking at 11:30AM<br style="box-sizing: border-box\;" />\nPresentation &amp\; Lunch at 12:00PM<br style="box-sizing: border-box\;" />\n<br style="box-sizing: border-box\;" />\n<strong style="box-sizing: border-box\;"><u style="box-sizing: border-box\;">Members</u></strong>:<br style="box-sizing: border-box\;" />\n$30 pp if reservation are made before 9AM on May 26th<br />\n<strong style="box-sizing: border-box\;"><u style="box-sizing: border-box\;">Non- Members</u></strong>:&nbsp\; &nbsp\;<br style="box-sizing: border-box\;" />\n$35 pp if reservation are made before 9AM on May 26th<br />\n<br style="box-sizing: border-box\;" />\n<span style="box-sizing: border-box\; background-image: initial\; background-position: initial\; background-size: initial\; background-repeat: initial\; background-attachment: initial\; background-origin: initial\; background-clip: initial\;">Registration Deadline: Monday\, May 26th at 9AM</span><br style="box-sizing: border-box\;" />\nCancellation Deadline: by May 26th at 9AM</span>&nbsp\;to receive a refund.<br style="font-family: verdana\; box-sizing: border-box\;" />\n<br style="font-family: verdana\; box-sizing: border-box\;" />\n<span style="box-sizing: border-box\; background-image: initial\; background-position: initial\; background-size: initial\; background-repeat: initial\; background-attachment: initial\; background-origin: initial\; background-clip: initial\;">CANCELLATION POLICY:&nbsp\;If you need to cancel\, you must do so before 9AM on the Monday before the luncheon to receive a refund.&nbsp\;</span></span></span></div>\n
LOCATION:Westwood Country Club 22625 Detroit Road Rocky River 44116
UID:e.3438.3038
SEQUENCE:3
DTSTAMP:20260421T104406Z
URL:https://www.rockyriverchamber.com/events/details/chamber-luncheon-may-2025-3038
END:VEVENT

END:VCALENDAR
