BEGIN:VCALENDAR
VERSION:2.0
PRODID:-//ChamberMaster//Event Calendar 2.0//EN
METHOD:PUBLISH
X-PUBLISHED-TTL:P3D
REFRESH-INTERVAL:P3D
CALSCALE:GREGORIAN
BEGIN:VEVENT
DTSTART:20260528T153000Z
DTEND:20260528T173000Z
X-MICROSOFT-CDO-ALLDAYEVENT:FALSE
SUMMARY:Chamber Luncheon - May 2026
DESCRIPTION:Welcome to our May Luncheon! Our Speaker this month will be Retired Rocky River Municipal Court Judge Donna Fitzsimmons.\n\n\n\nJudge Donna Congeni Fitzsimmons will speak about her federal prosecution of the reputed head of the Cleveland Mob and several of his subordinates during the time that Cleveland was known as Bomb City USA. As a young federal prosecutor in the U.S. Department of Justice's Organized Crime Strike Force\, Judge Fitzsimmons obtained\, after a three-month trial in federal court before the legendary Judge John M. Manos\, convictions of all defendants on a variety of charges including murder\, drug trafficking\, RICO conspiracy\, & the like. Judge Manos sentenced all but one of the defendants to life in prison without the possibility of parole. After his appeal was denied\, one of the defendants\, Cleveland Mafia boss Angelo Lonardo\, turned government witness and testified against Mafia families in prosecutions in several U.S.  cities\, including for then -U.S. Attorney for the Southern District of New York\, Rudy Giuliani\, against the heads of the five Mafia families in New York City in the infamous Commission Trial\, which brought down the five NYC Families. Lonardo was and remains-- the highest- ranking organized crime figure to turn government witness.\n\n \n\nDuring   the trial of the Cleveland organized crime figures\, Judge Fitzsimmons received a death threat\, which resulted in her being offered around the clock protection.   The Museum of Organized Crime (Mob Museum) in Las Vegas features her ground-breaking work on this case.  Judge Fitzsimmons has given this presentation to sold-out audiences at The Music Box Supper Club (three times)\, The Union Club\, The Cuyahoga County Justice Center\, the St. Christopher Ladies Guild\, several bar associations\, and numerous other groups.\n\n\n\nMeal: \n\nBread: Zucchini bread\n\nMain: Chicken salad croissant sandwich with fresh fruit and potato leek soup\n\nVegan Option: Spring vegetable plate\n\nDessert: Chef's choice\n\n\n\nNEW SPONSOR OPPORTUNITY\n\nTable Sponsorships\n\nOur new Table Sponsorships offer members a unique way to showcase your business at monthly Chamber luncheons. For $100\, sponsors receive lunch and event registration\, plus a reserved table in our lobby/dining area. Sponsors can highlight their business\, distribute marketing materials\, display products\, and engage directly with attendees before and during the luncheon. It's an easy\, consistent way to stay visible and connect with fellow members in a high-traffic setting.\n\n\n\nMembers:\n\n$30 pp if reservation are made before 9AM on May 25th\n\nNon- Members:   \n\n$35 pp if reservation are made before 9AM on May 25th\n\n\n\nRegistration Deadline: Monday\, May 25th at 9AM\n\nCancellation Deadline: by May 25th at 9AM to receive a refund.\n\n\n\nCANCELLATION POLICY: If you need to cancel\, you must do so before 9AM on the Monday before the luncheon to receive a refund.
X-ALT-DESC;FMTTYPE=text/html:<div style="text-align: center\;"><span style="font-size:18px\;"><span style="font-family:verdana\;">Welcome to our May Luncheon! Our Speaker this month will be Retired Rocky River Municipal Court Judge Donna Fitzsimmons.<br />\n<br />\n<span style="color:#222222\;">Judge Donna Congeni Fitzsimmons will speak about her federal prosecution of the reputed head of the Cleveland Mob and several of his subordinates during the time that Cleveland was known as Bomb City USA. As a young federal prosecutor in the U.S. Department of Justice&rsquo\;s Organized Crime Strike Force\, Judge Fitzsimmons obtained\, after a three-month trial in federal court before the legendary Judge John M. Manos\, convictions of all defendants on a variety of charges including murder\, drug trafficking\, RICO conspiracy\, &amp\; the like. Judge Manos sentenced all but one of the defendants to life in prison without the possibility of parole. After his appeal was denied\, one of the defendants\, Cleveland Mafia boss Angelo Lonardo\, turned government witness and testified against Mafia families in prosecutions in several U.S. &nbsp\;cities\, including for then -U.S. Attorney for the Southern District of New York\, Rudy Giuliani\, against the heads of the five Mafia families in New York City in the infamous Commission Trial\, which brought down the five NYC Families. Lonardo was&mdash\;and remains-- the highest- ranking organized crime figure to turn government witness.</span><br />\n&nbsp\;<br />\n<span style="color:#222222\;">During &nbsp\;&nbsp\;the trial of the Cleveland organized crime figures\, Judge Fitzsimmons received a death threat\, which resulted in her being offered around the clock protection. &nbsp\;&nbsp\;The Museum of Organized Crime (Mob Museum) in Las Vegas features her ground-breaking work on this case.&nbsp\; Judge Fitzsimmons has given this presentation to sold-out audiences at The Music Box Supper Club (three times)\, The Union Club\, The Cuyahoga County Justice Center\, the St. Christopher Ladies Guild\, several bar associations\, and numerous other groups.</span><br />\n<br />\nMeal:&nbsp\;</span></span>\n\n<div class="x_elementToProof" data-ogsc="" data-olk-copy-source="MessageBody" role="presentation" style="font-family: Aptos\, Aptos_EmbeddedFont\, Aptos_MSFontService\, Calibri\, Helvetica\, sans-serif\; font-size: 12pt\;border: 0px\; font: inherit\; margin: 0px\; padding: 0px\; vertical-align: baseline\; color: inherit\;"><span style="color:#000000\;"><span style="font-size:18px\;"><span style="font-family:verdana\;">Bread: Zucchini bread</span></span></span></div>\n\n<div class="x_elementToProof" data-ogsc="" role="presentation" style="font-family: Aptos\, Aptos_EmbeddedFont\, Aptos_MSFontService\, Calibri\, Helvetica\, sans-serif\; font-size: 12pt\;border: 0px\; font: inherit\; margin: 0px\; padding: 0px\; vertical-align: baseline\; color: inherit\;"><span style="color:#000000\;"><span style="font-size:18px\;"><span style="font-family:verdana\;">Main: Chicken salad croissant sandwich with fresh fruit and potato leek soup</span></span></span></div>\n\n<div class="x_elementToProof" data-ogsc="" role="presentation" style="font-family: Aptos\, Aptos_EmbeddedFont\, Aptos_MSFontService\, Calibri\, Helvetica\, sans-serif\; font-size: 12pt\;border: 0px\; font: inherit\; margin: 0px\; padding: 0px\; vertical-align: baseline\; color: inherit\;"><span style="color:#000000\;"><span style="font-size:18px\;"><span style="font-family:verdana\;">Vegan Option: Spring vegetable plate</span></span></span></div>\n\n<div class="x_elementToProof" data-ogsc="" role="presentation" style="font-family: Aptos\, Aptos_EmbeddedFont\, Aptos_MSFontService\, Calibri\, Helvetica\, sans-serif\; font-size: 12pt\;border: 0px\; font: inherit\; margin: 0px\; padding: 0px\; vertical-align: baseline\; color: inherit\;"><span style="color:#000000\;"><span style="font-size:18px\;"><span style="font-family:verdana\;">Dessert: Chef&#39\;s choice</span></span></span></div>\n\n<p><br />\n<span style="font-size:18px\;"><span style="font-family:verdana\;"><span style="text-align: center\;">NEW SPONSOR OPPORTUNITY</span></span></span></p>\n\n<p data-olk-copy-source="MessageBody" style="text-align: center\; color: rgb(0\, 0\, 0)\; font-family: &quot\;Segoe UI&quot\;\, &quot\;Segoe UI Web (West European)&quot\;\, -apple-system\, BlinkMacSystemFont\, Roboto\, &quot\;Helvetica Neue&quot\;\, sans-serif\; font-size: 15px\;"><span style="font-size:18px\;"><span style="font-family:verdana\;">Table Sponsorships</span></span></p>\n\n<p style="text-align: center\; color: rgb(0\, 0\, 0)\; font-family: &quot\;Segoe UI&quot\;\, &quot\;Segoe UI Web (West European)&quot\;\, -apple-system\, BlinkMacSystemFont\, Roboto\, &quot\;Helvetica Neue&quot\;\, sans-serif\; font-size: 15px\;"><span style="font-size:18px\;"><span style="font-family:verdana\;">Our new Table Sponsorships offer members a unique way to showcase your&nbsp\;business at monthly Chamber luncheons. For $100\, sponsors receive lunch and event registration\, plus a reserved table in our lobby/dining area. Sponsors can highlight their business\, distribute marketing materials\, display products\, and engage directly with attendees before and during the luncheon. It&rsquo\;s an easy\, consistent way to stay visible and connect with fellow members in a high-traffic setting.</span></span><br style="box-sizing: border-box\;" />\n<br style="box-sizing: border-box\;" />\n<span style="font-family:verdana\;"><span style="font-size:18px\;"><span style="letter-spacing: 0.4pt\; background: rgb(243\, 243\, 243)\;"><strong style="box-sizing: border-box\;"><u style="box-sizing: border-box\;">Members</u></strong>:<br style="box-sizing: border-box\;" />\n$30 pp if reservation are made before 9AM on May 25th<br />\n<strong style="box-sizing: border-box\;"><u style="box-sizing: border-box\;">Non- Members</u></strong>:&nbsp\; &nbsp\;<br style="box-sizing: border-box\;" />\n$35 pp if reservation are made before 9AM on May 25th<br />\n<br style="box-sizing: border-box\;" />\n<span style="box-sizing: border-box\; background-image: initial\; background-position: initial\; background-size: initial\; background-repeat: initial\; background-attachment: initial\; background-origin: initial\; background-clip: initial\;">Registration Deadline: Monday\, May 25th at 9AM</span><br style="box-sizing: border-box\;" />\nCancellation Deadline: by May 25th at 9AM</span>&nbsp\;to receive a refund.<br style="font-family: verdana\; box-sizing: border-box\;" />\n<br style="font-family: verdana\; box-sizing: border-box\;" />\n<span style="box-sizing: border-box\; background-image: initial\; background-position: initial\; background-size: initial\; background-repeat: initial\; background-attachment: initial\; background-origin: initial\; background-clip: initial\;">CANCELLATION POLICY:&nbsp\;If you need to cancel\, you must do so before 9AM on the Monday before the luncheon to receive a refund.&nbsp\;</span></span></span></p>\n</div>\n
LOCATION:Westwood Country Club 22625 Detroit Road Rocky River 44116
UID:e.3438.3073
SEQUENCE:3
DTSTAMP:20260422T140701Z
URL:https://www.rockyriverchamber.com/events/details/chamber-luncheon-may-2026-3073
END:VEVENT

END:VCALENDAR
