BEGIN:VCALENDAR
VERSION:2.0
PRODID:-//ChamberMaster//Event Calendar 2.0//EN
METHOD:PUBLISH
X-PUBLISHED-TTL:P3D
REFRESH-INTERVAL:P3D
CALSCALE:GREGORIAN
BEGIN:VEVENT
DTSTART:20261119T163000Z
DTEND:20261119T183000Z
X-MICROSOFT-CDO-ALLDAYEVENT:FALSE
SUMMARY:Chamber Luncheon - November 2026
DESCRIPTION:Welcome to the November Luncheon Presented by COX Business!\n\n\n\nTBA\n\n\n\nNEW SPONSOR OPPORTUNITY\n\nTable Sponsorships\n\nOur new Table Sponsorships offer members a unique way to showcase your business at monthly Chamber luncheons. For $100\, sponsors receive lunch and event registration\, plus a reserved table in our lobby/dining area. Sponsors can highlight their business\, distribute marketing materials\, display products\, and engage directly with attendees before and during the luncheon. It's an easy\, consistent way to stay visible and connect with fellow members in a high-traffic setting.\n\n\n\n\nDoors open for networking at 11:30AM\n\nPresentation & Lunch at 12:00PM\n\n\n\nMembers:\n\n$30 pp if reservation are made before 9AM on November 16\n\nNon- Members:   \n\n$35 pp if reservation are made before 9AM on November 16\n\n\n\nRegistration Deadline: Monday\, November 16 at 9AM\n\nCancellation Deadline: by November 16 at 9AM to receive a refund.\n\n\n\nCANCELLATION POLICY: If you need to cancel\, you must do so before 9AM on the Monday before the luncheon to receive a refund.
X-ALT-DESC;FMTTYPE=text/html:<div style="text-align: center\;">&nbsp\;</div>\n\n<div style="text-align: center\;"><br />\n<span style="font-family:verdana\;"><span style="font-size:18px\;">Welcome to&nbsp\;the November&nbsp\;Luncheon Presented by COX Business!</span></span></div>\n\n<div style="text-align: center\;"><br />\n<span style="font-size:18px\;">TBA</span><br />\n<br />\n<span style="text-align: center\; font-size: 18px\;">NEW SPONSOR OPPORTUNITY</span>\n\n<p data-olk-copy-source="MessageBody" style="text-align: center\; color: rgb(0\, 0\, 0)\; font-family: &quot\;Segoe UI&quot\;\, &quot\;Segoe UI Web (West European)&quot\;\, -apple-system\, BlinkMacSystemFont\, Roboto\, &quot\;Helvetica Neue&quot\;\, sans-serif\; font-size: 15px\;">Table Sponsorships</p>\n\n<p style="text-align: center\; color: rgb(0\, 0\, 0)\; font-family: &quot\;Segoe UI&quot\;\, &quot\;Segoe UI Web (West European)&quot\;\, -apple-system\, BlinkMacSystemFont\, Roboto\, &quot\;Helvetica Neue&quot\;\, sans-serif\; font-size: 15px\;">Our new Table Sponsorships offer members a unique way to showcase your&nbsp\;business at monthly Chamber luncheons. For $100\, sponsors receive lunch and event registration\, plus a reserved table in our lobby/dining area. Sponsors can highlight their business\, distribute marketing materials\, display products\, and engage directly with attendees before and during the luncheon. It&rsquo\;s an easy\, consistent way to stay visible and connect with fellow members in a high-traffic setting.</p>\n<br />\n<br />\n<span style="font-family: verdana\; font-size: 16px\;"><span style="letter-spacing: 0.4pt\; background: rgb(243\, 243\, 243)\;">Doors open for networking at 11:30AM<br style="box-sizing: border-box\;" />\nPresentation &amp\; Lunch at 12:00PM<br style="box-sizing: border-box\;" />\n<br style="box-sizing: border-box\;" />\n<strong style="box-sizing: border-box\;"><u style="box-sizing: border-box\;">Members</u></strong>:<br style="box-sizing: border-box\;" />\n$30 pp if reservation are made before 9AM on November 16<br />\n<strong style="box-sizing: border-box\;"><u style="box-sizing: border-box\;">Non- Members</u></strong>:&nbsp\; &nbsp\;<br style="box-sizing: border-box\;" />\n$35 pp if reservation are made before 9AM on </span></span><span style="font-family: verdana\; font-size: 16px\; letter-spacing: 0.533333px\; text-align: center\; background-color: rgb(243\, 243\, 243)\;">November 16</span><br />\n<br style="box-sizing: border-box\;" />\n<span style="font-family: verdana\; font-size: 16px\;"><span style="letter-spacing: 0.4pt\; background: rgb(243\, 243\, 243)\;"><span style="box-sizing: border-box\; background-image: initial\; background-position: initial\; background-size: initial\; background-repeat: initial\; background-attachment: initial\; background-origin: initial\; background-clip: initial\;">Registration Deadline: Monday\,&nbsp\;</span></span></span><span style="font-family: verdana\; font-size: 16px\; letter-spacing: 0.533333px\; text-align: center\; background-color: rgb(243\, 243\, 243)\;">November 16</span><span style="font-family: verdana\; font-size: 16px\;"><span style="letter-spacing: 0.4pt\; background: rgb(243\, 243\, 243)\;"><span style="box-sizing: border-box\; background-image: initial\; background-position: initial\; background-size: initial\; background-repeat: initial\; background-attachment: initial\; background-origin: initial\; background-clip: initial\;">&nbsp\;at 9AM</span><br style="box-sizing: border-box\;" />\nCancellation Deadline: by </span></span><span style="font-family: verdana\; font-size: 16px\; letter-spacing: 0.533333px\; text-align: center\; background-color: rgb(243\, 243\, 243)\;">November 16</span><span style="font-family: verdana\; font-size: 16px\;"><span style="letter-spacing: 0.4pt\; background: rgb(243\, 243\, 243)\;">&nbsp\;at 9AM</span>&nbsp\;to receive a refund.</span><br style="font-family: verdana\; box-sizing: border-box\;" />\n<br style="font-family: verdana\; box-sizing: border-box\;" />\n<span style="font-family: verdana\; font-size: 16px\;"><span style="box-sizing: border-box\; background-image: initial\; background-position: initial\; background-size: initial\; background-repeat: initial\; background-attachment: initial\; background-origin: initial\; background-clip: initial\;">CANCELLATION POLICY:&nbsp\;If you need to cancel\, you must do so before 9AM on the Monday before the luncheon to receive a refund.&nbsp\;</span></span></div>\n
LOCATION:Westwood Country Club 22625 Detroit Road Rocky River 44116
UID:e.3438.3077
SEQUENCE:3
DTSTAMP:20260422T121901Z
URL:https://www.rockyriverchamber.com/events/details/chamber-luncheon-november-2026-3077
END:VEVENT

END:VCALENDAR
