BEGIN:VCALENDAR
VERSION:2.0
PRODID:-//ChamberMaster//Event Calendar 2.0//EN
METHOD:PUBLISH
X-PUBLISHED-TTL:P3D
REFRESH-INTERVAL:P3D
CALSCALE:GREGORIAN
BEGIN:VEVENT
DTSTART;VALUE=DATE:20240505
DTEND;VALUE=DATE:20240508
TRANSP:TRANSPARENT
X-MICROSOFT-CDO-ALLDAYEVENT:TRUE
SUMMARY:Community Event :: Content Entrepreneur Expo
DESCRIPTION:Join bloggers\, podcasters\, authors\, newsletter writers\, speakers\, coaches and consultants\, freelancers\, and YouTubers at THE learning and networking event for content entrepreneurs.\n\n	Build your revenue and audience without relying on Big Tech\n	Learn how to use AI to not only survive\, but thrive\n	Grow faster by meeting and partnering with other content entrepreneurs\n\nLearn more and get your tickets today at: cex.events
X-ALT-DESC;FMTTYPE=text/html:Join bloggers\, podcasters\, authors\, newsletter writers\, speakers\, coaches and consultants\, freelancers\, and YouTubers at THE learning and networking event for content entrepreneurs.\n<ul>\n	<li>Build your revenue and audience without relying on Big Tech</li>\n	<li>Learn how to use AI to not only survive\, but thrive</li>\n	<li>Grow faster by meeting and partnering with other content entrepreneurs</li>\n</ul>\nLearn more and get your tickets today at:&nbsp\;cex.events
LOCATION:Renaissance Hotel 24 Public Sq Cleveland\, OH 44113
UID:e.3438.789
SEQUENCE:3
DTSTAMP:20260424T051551Z
URL:https://www.rockyriverchamber.com/events/details/community-event-content-entrepreneur-expo-789
END:VEVENT

END:VCALENDAR
