BEGIN:VCALENDAR
VERSION:2.0
PRODID:-//ChamberMaster//Event Calendar 2.0//EN
METHOD:PUBLISH
X-PUBLISHED-TTL:P3D
REFRESH-INTERVAL:P3D
CALSCALE:GREGORIAN
BEGIN:VEVENT
DTSTART:20230814T130000Z
DTEND:20230814T210000Z
X-MICROSOFT-CDO-ALLDAYEVENT:FALSE
SUMMARY:Golf Outing 2023
DESCRIPTION:"Hit the links" with the Rocky River Chamber for our annual Golf Outing on Monday\, August 14\, 2023 and our Masters Sponsor\, Spooner Risk Control and Erie Title.\n\n\n\nREGISTRATION IS NOW CLOSED! \n\n\n\nRegistration + Breakfast open at 7:30 AM\n\nLunch will be catered by the Club and available for golfers at their leisure\, at the turn.\n\nOur Putting Contest will run all day\, along with our Hole-in-One Contest!\n\nOur 19th Hole Party will follow in the Avon Oaks Ballroom and all are welcome to join\, even if you aren't golfing.\n\n\n\nGolf Raffle\n\nOur grand prize is a $500 VISA Gift Card\, plus dozens of other amazing prizes donated by our members. Please call for details. \n\n\n\nWinners do not need to be present to win\, unlimited chances are available!
X-ALT-DESC;FMTTYPE=text/html:<p>&quot\;Hit the links&quot\; with the Rocky River Chamber for&nbsp\;our annual Golf Outing on Monday\, August 14\, 2023&nbsp\;and our Masters Sponsor\, <a href="https://www.rockyriverchamber.com/list/member/spooner-risk-control-2590">Spooner Risk Control</a>&nbsp\;and Erie Title.<br />\n<br />\nREGISTRATION IS NOW CLOSED!&nbsp\;<br />\n<br />\n<strong>Registration + Breakfast&nbsp\;</strong>open at 7:30 AM<br />\n<strong>Lunch </strong>will be catered by the Club and available for golfers at their leisure\, at the turn.<br />\nOur Putting Contest will run all day\, along with our Hole-in-One Contest!<br />\nOur <strong>19th Hole Party</strong> will&nbsp\;follow in the Avon Oaks Ballroom and all are welcome to join\, even if you aren&#39\;t golfing.<br />\n<br />\n<b>Golf Raffle</b><br />\nOur grand prize is a&nbsp\;<strong>$500 VISA Gift Card\,</strong>&nbsp\;plus dozens of other amazing prizes donated by our members. Please call for details.&nbsp\;<br />\n<br />\n<strong>Winners do not need to be present to win\, unlimited chances are available!</strong><br />\n<br />\n&nbsp\;</p>\n
LOCATION:Avon Oaks Country Club 32300 Detroit Road Avon 44011
UID:e.3438.620
SEQUENCE:3
DTSTAMP:20260424T161449Z
URL:https://www.rockyriverchamber.com/events/details/golf-outing-2023-620
END:VEVENT

END:VCALENDAR
