BEGIN:VCALENDAR
VERSION:2.0
PRODID:-//ChamberMaster//Event Calendar 2.0//EN
METHOD:PUBLISH
X-PUBLISHED-TTL:P3D
REFRESH-INTERVAL:P3D
CALSCALE:GREGORIAN
BEGIN:VEVENT
DTSTART:20240930T130000Z
DTEND:20240930T210000Z
X-MICROSOFT-CDO-ALLDAYEVENT:FALSE
SUMMARY:Golf Outing 2024
DESCRIPTION:"Hit the links" with the Rocky River Chamber for our annual Golf Outing on Monday\, September 30\, 2024\n\n\n\nMore Information HERE\n\n\n\nRegistration + Breakfast open at 7:30 AM\n\nLunch will be catered by the Club and available for golfers at their leisure\, at the turn.\n\nOur Putting Contest will run all day\, along with our Hole-in-One Contest!\n\nOur 19th Hole Party will follow in the Avon Oaks Ballroom and all are welcome to join\, even if you aren't golfing.\n\n\n\nGolf Raffle\n\nOur grand prize is a Blackstone Grill\, plus dozens of other amazing prizes donated by our members. Please call for details. \n\n\n\nWinners do not need to be present to win\, unlimited chances are available!
X-ALT-DESC;FMTTYPE=text/html:<p>&quot\;Hit the links&quot\; with the Rocky River Chamber for&nbsp\;our annual Golf Outing on Monday\, September 30\, 2024<br />\n<br />\nMore Information <a href="https://chambermaster.blob.core.windows.net/userfiles/UserFiles/chambers/3438/CMS/Golf_Outing/Golf-Outing-Flyer.pdf">HERE</a><br />\n<br />\n<strong>Registration + Breakfast&nbsp\;</strong>open at 7:30 AM<br />\n<strong>Lunch </strong>will be catered by the Club and available for golfers at their leisure\, at the turn.<br />\nOur Putting Contest will run all day\, along with our Hole-in-One Contest!<br />\nOur <strong>19th Hole Party</strong> will&nbsp\;follow in the Avon Oaks Ballroom and all are welcome to join\, even if you aren&#39\;t golfing.<br />\n<br />\n<b>Golf Raffle</b><br />\nOur grand prize is a Blackstone Grill<strong>\,</strong>&nbsp\;plus dozens of other amazing prizes donated by our members. Please call for details.&nbsp\;<br />\n<br />\n<strong>Winners do not need to be present to win\, unlimited chances are available!</strong><br />\n<br />\n&nbsp\;</p>\n
LOCATION:Avon Oaks Country Club 32300 Detroit Road Avon 44011
UID:e.3438.764
SEQUENCE:3
DTSTAMP:20260423T172744Z
URL:https://www.rockyriverchamber.com/events/details/golf-outing-2024-764
END:VEVENT

END:VCALENDAR
