BEGIN:VCALENDAR
VERSION:2.0
PRODID:-//ChamberMaster//Event Calendar 2.0//EN
METHOD:PUBLISH
X-PUBLISHED-TTL:P3D
REFRESH-INTERVAL:P3D
CALSCALE:GREGORIAN
BEGIN:VEVENT
DTSTART:20260824T130000Z
DTEND:20260824T210000Z
X-MICROSOFT-CDO-ALLDAYEVENT:FALSE
SUMMARY:Golf Outing 2026
DESCRIPTION:"Hit the links" with the Rocky River Chamber for our annual Golf Outing on Monday\, August 24th\, 2026. This event is a great opportunity for you and your business to get in front of C-Suite Individuals\, Decision Makers\, and Business Owners. \n\n\n\nHosted at: Sweet Briar Golf Course\n\n\n\nRegistration + Breakfast open at 7:30 AM\n\nShotgun Start 9:00am\n\nLunch will be catered by the Club and available for golfers at their leisure\, at the turn.\n\nOur Putting Contest will run all day\, along with our Hole-in-One Contest!\n\nOur 19th Hole Party will follow in the Dining Room and Patio and all are welcome to join\, even if you aren't golfing.\n\n\n\nGolf Raffle\n\nOur grand prize\, plus dozens of other amazing prizes donated by our members. Please call for details. \n\n\n\nWinners do not need to be present to win\, unlimited chances are available!\n\n\n\n\n\nRegistration/Sponsorship Information
X-ALT-DESC;FMTTYPE=text/html:<p><span style="font-family:verdana\;"><span style="font-size:18px\;">&quot\;Hit the links&quot\; with the Rocky River Chamber for&nbsp\;our annual Golf Outing on Monday\, August 24th\, 2026. This event is a great opportunity for you and your business to get in front of C-Suite Individuals\, Decision Makers\, and Business Owners.&nbsp\;</span></span><br />\n<br />\n<span style="font-family:verdana\;"><span style="font-size:18px\;"><strong><span style="font-size:22px\;">Hosted at: Sweet Briar Golf Course</span></strong><br />\n<br />\n<strong>Registration + Breakfast&nbsp\;</strong>open at 7:30 AM<br />\n<u><strong>Shotgun Start 9:00am</strong></u><br />\n<strong>Lunch </strong>will be catered by the Club and available for golfers at their leisure\, at the turn.<br />\nOur Putting Contest will run all day\, along with our Hole-in-One Contest!<br />\nOur <strong>19th Hole Party</strong> will&nbsp\;follow in the Dining Room and Patio and all are welcome to join\, even if you aren&#39\;t golfing.<br />\n<br />\n<b>Golf Raffle</b><br />\nOur grand prize<strong>\,</strong>&nbsp\;plus dozens of other amazing prizes donated by our members. Please call for details.&nbsp\;<br />\n<br />\n<strong>Winners do not need to be present to win\, unlimited chances are available!</strong></span></span><br />\n<br />\n<br />\n<strong><span style="font-size:28px\;"><a href="https://chambermaster.blob.core.windows.net/userfiles/UserFiles/chambers/3438/File/2026GolfOutingSponsorshipFlyer.pdf">Registration/Sponsorship Information</a></span></strong><br />\n&nbsp\;</p>\n
LOCATION:Sweet Briar Legacy Golf Course 750 Jaycox Rd Avon Lake\, OH 44012
UID:e.3438.3081
SEQUENCE:3
DTSTAMP:20260424T073155Z
URL:https://www.rockyriverchamber.com/events/details/golf-outing-2026-3081
END:VEVENT

END:VCALENDAR
