BEGIN:VCALENDAR
VERSION:2.0
PRODID:-//ChamberMaster//Event Calendar 2.0//EN
METHOD:PUBLISH
X-PUBLISHED-TTL:P3D
REFRESH-INTERVAL:P3D
CALSCALE:GREGORIAN
BEGIN:VEVENT
DTSTART:20230420T160000Z
DTEND:20230420T170000Z
X-MICROSOFT-CDO-ALLDAYEVENT:FALSE
SUMMARY:Let's Do Lunch - 4.20.2023
DESCRIPTION:"Let's Do Lunch" at the Gourmet Guy Cafe on Thursday\, April 20 - join the Chamber anytime between 12-1PM. Our "Let's Do Lunch" events traditionally offer bonus lunch-time networking with fellow Chamber members - and we look forward to seeing you there. \n\n \n\nRegistration is FREE! And\, all guests will receive a free Organic Tractor Beverage with their meal order. And\, when ordering\, consider their tater tots with melted cheese and scallions - wow!!\n\n\n\nWe look forward to this time to "squeeze in" extra networking in person on your lunch hour. Reservations are not required\, and there is no program. Come if you can\, even if you can only make it for 20 minute - maximize your lunch break with the Rocky River Chamber!\n\n\n\nHey\, we all have to eat lunch - right?! So\, if you cannot attend the event and still wish to support this member business\, try ordering online - pick-up or delivery through Uber Eats or DoorDash! While you're at it\, why not order lunch for the whole office?!
X-ALT-DESC;FMTTYPE=text/html:<br />\n&quot\;<strong>Let&#39\;s Do Lunch&quot\;</strong>&nbsp\;at<strong>&nbsp\;the Gourmet Guy Cafe&nbsp\;</strong>on Thursday\, April 20 - join the Chamber anytime between 12-1PM. Our &quot\;Let&#39\;s Do Lunch&quot\; events traditionally offer bonus lunch-time networking with fellow Chamber members - and we look forward to seeing you there.&nbsp\;<br />\n&nbsp\;<br />\nRegistration is FREE!&nbsp\;<strong>And\, all guests will receive a free Organic Tractor Beverage with their meal order. </strong>And\, when ordering\, consider their tater tots with melted cheese and scallions -<em> wow!!</em><br />\n<br />\nWe look forward to this time to &quot\;squeeze in&quot\; extra networking in person on your lunch hour. Reservations are not required\, and there is no program. Come if you can\, even if you can only make it for 20 minute -<em>&nbsp\;maximize your lunch break with the Rocky River Chamber!</em><br />\n<br />\nHey\, we all have to eat lunch -<em>&nbsp\;right?!</em>&nbsp\;So\, if you cannot attend the event and still wish to support this member business\, try ordering online -&nbsp\;<a href="https://direct.chownow.com/order/17241/locations/24622?add_cn_ordering_class=true">pick-up</a>&nbsp\;or delivery through Uber Eats or DoorDash! <em>While you&#39\;re at it\, why not order lunch for the whole office?!</em>
LOCATION:Gourmet Guy Cafe 20253 Lake Road Rocky River 44116
UID:e.3438.674
SEQUENCE:3
DTSTAMP:20260424T231047Z
URL:https://www.rockyriverchamber.com/events/details/let-s-do-lunch-4-20-2023-674
END:VEVENT

END:VCALENDAR
