BEGIN:VCALENDAR
VERSION:2.0
PRODID:-//ChamberMaster//Event Calendar 2.0//EN
METHOD:PUBLISH
X-PUBLISHED-TTL:P3D
REFRESH-INTERVAL:P3D
CALSCALE:GREGORIAN
BEGIN:VEVENT
DTSTART:20220616T160000Z
DTEND:20220616T170000Z
X-MICROSOFT-CDO-ALLDAYEVENT:FALSE
SUMMARY:Let's Do Lunch - 6.16.2022
DESCRIPTION:We are planning a "Let's Do Lunch!" event at Gourmet Guy Cafe on Thursday\, June 16\, 2022. Our "Let's Do Lunch" events traditionally offer bonus lunch-time networking with fellow Chamber members - and we look forward to seeing you there. \n\n\n\nAs the health and safety of our members are a top priority\, the event will encourage patrons to gather to dine and network\, if comfortable. Additionally\, we welcome members to order "to-go" so everyone can enjoy a healthy + delicious lunch from GOURMET GUY (gourmetguycafe.com).   So\, let's do lunch!\n\n \n\nRegistration is FREE!\n\n\n\nWe look forward to this time to "squeeze in" extra networking in person on your lunch hour. Reservations are not required\, and there is no program. Come if you can\, even if you can only make it for 20 minute - maximize your lunch break with the Rocky River Chamber!\n\n\n\nPlease note: the Chamber will continue to follow the latest requirements from the Cuyahoga County Board of Health and our host venue.
X-ALT-DESC;FMTTYPE=text/html:<br />\nWe are planning a <strong>&ldquo\;Let&rsquo\;s Do Lunch!&rdquo\; </strong>event at<strong>&nbsp\;Gourmet Guy Cafe</strong>&nbsp\;on Thursday\, June 16\, 2022. Our &quot\;Let&#39\;s Do Lunch&quot\; events traditionally offer bonus lunch-time networking with fellow Chamber members - and we look forward to seeing you there.&nbsp\;<br />\n<br />\nAs the health and safety of our members are a top priority\, the event will encourage patrons to gather to dine and network\, if comfortable. Additionally\, we welcome members to order &quot\;to-go&quot\; so everyone&nbsp\;can enjoy a healthy + delicious lunch from&nbsp\;<a href="https://www.gourmetguycafe.com/home">GOURMET GUY (gourmetguycafe.com)</a>.&nbsp\; &nbsp\;<strong>So\, let&#39\;s do lunch!</strong><br />\n&nbsp\;<br />\nRegistration is FREE!<br />\n<br />\nWe look forward to this time to &quot\;squeeze in&quot\; extra networking in person on your lunch hour. Reservations are not required\, and there is no program. Come if you can\, even if you can only make it for 20 minute -<em> maximize your lunch break with the Rocky River Chamber!</em><br />\n<br />\nPlease note: the Chamber will continue to follow the latest requirements from the Cuyahoga County Board of Health and our host venue.
LOCATION:Gourmet Guy Cafe 20253 Lake Rd Rocky River\, OH 44116 440-799-4083
UID:e.3438.569
SEQUENCE:3
DTSTAMP:20260425T192122Z
URL:https://www.rockyriverchamber.com/events/details/let-s-do-lunch-6-16-2022-569
END:VEVENT

END:VCALENDAR
