BEGIN:VCALENDAR
VERSION:2.0
PRODID:-//ChamberMaster//Event Calendar 2.0//EN
METHOD:PUBLISH
X-PUBLISHED-TTL:P3D
REFRESH-INTERVAL:P3D
CALSCALE:GREGORIAN
BEGIN:VEVENT
DTSTART:20240417T160000Z
DTEND:20240417T170000Z
X-MICROSOFT-CDO-ALLDAYEVENT:FALSE
SUMMARY:Let's Do Lunch - April 17\, 2024
DESCRIPTION:Meet us at Market on Wednesday\, April 17 anytime between 12-1PM. Our "Let's Do Lunch" events traditionally offer bonus lunch-time networking with fellow Chamber members - and we look forward to seeing you there. \n\n \n\nRegistration is FREE [encouraged\, but not required]! No program or formalities at this event\, just great food and networking for our members! \n\n\n\nWe look forward to this time to "squeeze in" extra networking in person on your lunch hour. Reservations are not required\, and there is no program. Come if you can\, even if you can only make it for 20 minute - maximize your lunch break with the Rocky River Chamber!
X-ALT-DESC;FMTTYPE=text/html:Meet us at Market on Wednesday\, April 17 anytime between 12-1PM. Our &quot\;Let&#39\;s Do Lunch&quot\; events traditionally offer bonus lunch-time networking with fellow Chamber members - and we look forward to seeing you there.&nbsp\;<br />\n&nbsp\;<br />\nRegistration is FREE [encouraged\, but not required]! No program or formalities at this event\, just great food and networking for our members!&nbsp\;<br />\n<br />\nWe look forward to this time to &quot\;squeeze in&quot\; extra networking in person on your lunch hour. Reservations are not required\, and there is no program. Come if you can\, even if you can only make it for 20 minute - maximize your lunch break with the Rocky River Chamber!
LOCATION:Market 1137 Linda St Rocky River\, OH 44116
UID:e.3438.787
SEQUENCE:3
DTSTAMP:20260424T034142Z
URL:https://www.rockyriverchamber.com/events/details/let-s-do-lunch-april-17-2024-787
END:VEVENT

END:VCALENDAR
