BEGIN:VCALENDAR
VERSION:2.0
PRODID:-//ChamberMaster//Event Calendar 2.0//EN
METHOD:PUBLISH
X-PUBLISHED-TTL:P3D
REFRESH-INTERVAL:P3D
CALSCALE:GREGORIAN
BEGIN:VEVENT
DTSTART:20260210T170000Z
DTEND:20260210T180000Z
X-MICROSOFT-CDO-ALLDAYEVENT:FALSE
SUMMARY:Let's Do Lunch - February 10\, 2026
DESCRIPTION:It's time to gather for a "Let's Do Lunch"! Meet us at Old Carolina Barbecue on Tuesday\, February 10th anytime between 12-1PM. Our "Let's Do Lunch" events traditionally offer bonus lunch-time networking with fellow Chamber members - and we look forward to seeing you there. \n\n \n\nRegistration is FREE [encouraged\, but not required]! No program or formalities at this event\, just great food and networking for our members! \n\n\n\nWe look forward to this time to "squeeze in" extra networking in person on your lunch hour. Reservations are not required\, and there is no program. Come if you can\, even if you can only make it for 20 minute - maximize your lunch break with the Rocky River Chamber!
X-ALT-DESC;FMTTYPE=text/html:<br />\nIt&#39\;s time to gather for a &quot\;<strong>Let&#39\;s Do Lunch&quot\;! </strong>Meet us at<strong>&nbsp\;Old Carolina Barbecue&nbsp\;</strong>on Tuesday\, February 10th anytime between 12-1PM. Our &quot\;Let&#39\;s Do Lunch&quot\; events traditionally offer bonus lunch-time networking with fellow Chamber members - and we look forward to seeing you there.&nbsp\;<br />\n&nbsp\;<br />\nRegistration is FREE [encouraged\, but not required]! No program or formalities at this event\, just great food and networking for our members<strong>!&nbsp\;</strong><br />\n<br />\nWe look forward to this time to &quot\;squeeze in&quot\; extra networking in person on your lunch hour. Reservations are not required\, and there is no program. Come if you can\, even if you can only make it for 20 minute -<em> maximize your lunch break with the Rocky River Chamber!</em>
LOCATION:Old Carolina Barbecue 21613 Center Ridge Road Rocky River 44116
UID:e.3438.3069
SEQUENCE:3
DTSTAMP:20260420T165328Z
URL:https://www.rockyriverchamber.com/events/details/let-s-do-lunch-february-10-2026-3069
END:VEVENT

END:VCALENDAR
