BEGIN:VCALENDAR
VERSION:2.0
PRODID:-//ChamberMaster//Event Calendar 2.0//EN
METHOD:PUBLISH
X-PUBLISHED-TTL:P3D
REFRESH-INTERVAL:P3D
CALSCALE:GREGORIAN
BEGIN:VEVENT
DTSTART:20260122T170000Z
DTEND:20260122T180000Z
X-MICROSOFT-CDO-ALLDAYEVENT:FALSE
SUMMARY:Let's Do Lunch - January 22\, 2026
DESCRIPTION:Meet us at CASSA Kitchen on Thursday\, January 22 anytime between 12-1PM. Our "Let's Do Lunch" events traditionally offer bonus lunch-time networking with fellow Chamber members - and we look forward to seeing you there. \n\n \n\nRegistration is FREE [encouraged\, but not required]! No program or formalities at this event\, just great food and networking for our members! \n\n\n\nCASSA Kitchen\n\n\n\nWe look forward to this time to "squeeze in" extra networking in person on your lunch hour. Reservations are not required\, and there is no program. Come if you can\, even if you can only make it for 20 minute - maximize your lunch break with the Rocky River Chamber!
X-ALT-DESC;FMTTYPE=text/html:Meet us at CASSA Kitchen on Thursday\, January 22 anytime between 12-1PM. Our &quot\;Let&#39\;s Do Lunch&quot\; events traditionally offer bonus lunch-time networking with fellow Chamber members - and we look forward to seeing you there.&nbsp\;<br />\n&nbsp\;<br />\nRegistration is FREE [encouraged\, but not required]! No program or formalities at this event\, just great food and networking for our members!&nbsp\;<br />\n<br />\n<span style="font-size:16px\;"><a href="https://cassafood.com/">CASSA Kitchen</a></span><br />\n<br />\nWe look forward to this time to &quot\;squeeze in&quot\; extra networking in person on your lunch hour. Reservations are not required\, and there is no program. Come if you can\, even if you can only make it for 20 minute - maximize your lunch break with the Rocky River Chamber!
LOCATION:CASSA Kitchen 21619 Center Ridge Rd\, Rocky River\, OH 44116
UID:e.3438.3066
SEQUENCE:3
DTSTAMP:20260420T184846Z
URL:https://www.rockyriverchamber.com/events/details/let-s-do-lunch-january-22-2026-3066
END:VEVENT

END:VCALENDAR
