BEGIN:VCALENDAR
VERSION:2.0
PRODID:-//ChamberMaster//Event Calendar 2.0//EN
METHOD:PUBLISH
X-PUBLISHED-TTL:P3D
REFRESH-INTERVAL:P3D
CALSCALE:GREGORIAN
BEGIN:VEVENT
DTSTART:20230519T150000Z
DTEND:20230519T220000Z
X-MICROSOFT-CDO-ALLDAYEVENT:FALSE
SUMMARY:MEMBER EVENT: Affaire de Chance
DESCRIPTION:An Affaire de Chance....a paysafe international inc. brand...\n\n\n\nVisit Maison Maison this weekend to spin their wheel for instant savings! \n\n20-50% off all merchandise!\n\n\n\nMaison Maison is celebrating 38 years of helping you to LOVE HOME.
X-ALT-DESC;FMTTYPE=text/html:<p><br />\n<strong>An Affaire de Chance</strong><em>....a paysafe international inc. brand...</em><br />\n<br />\nVisit Maison Maison this weekend to spin their wheel for instant savings!&nbsp\;<br />\n<em>20-50% off all merchandise!</em><br />\n<br />\n<strong>Maison Maison is celebrating 38 years of helping you to LOVE HOME.</strong><br />\n&nbsp\;</p>\n
LOCATION:19126 Old Detroit Road Rocky River 44116
UID:e.3438.722
SEQUENCE:3
DTSTAMP:20260425T024209Z
URL:https://www.rockyriverchamber.com/events/details/member-event-affaire-de-chance-722
END:VEVENT

END:VCALENDAR
