BEGIN:VCALENDAR
VERSION:2.0
PRODID:-//ChamberMaster//Event Calendar 2.0//EN
METHOD:PUBLISH
X-PUBLISHED-TTL:P3D
REFRESH-INTERVAL:P3D
CALSCALE:GREGORIAN
BEGIN:VEVENT
DTSTART:20230603T113000Z
DTEND:20230603T150000Z
X-MICROSOFT-CDO-ALLDAYEVENT:FALSE
SUMMARY:MEMBER EVENT: Hunger Network's Walk for Hunger & 5K Run
DESCRIPTION:Join us as we make strides toward ending hunger in our community!\n\n\n\nGather with hundreds of anti-hunger advocates on Saturday\, June 3rd at the Cleveland Metroparks Zoo for the 35th anniversary of this all-ages event. Enjoy a scenic route through the Zoo\, whether you choose to run the 5K or walk the 1 mile route. Or\, participate as a spectator to cheer on participants\, or volunteer to help out at this amazing event. All attendees are invited to stay and enjoy a day at the Zoo after the event.\n\n\n\nNot able to join us on June 3rd? Register as a virtual runner to support us from wherever you are!\n\n\n\nRaise funds. Raise awareness. Raise your voice.\n\n\n\nLearn more\, register\, or create a team: https://charity.pledgeit.org/WalkforHunger
X-ALT-DESC;FMTTYPE=text/html:Join us as we make strides toward ending hunger in our community!<br />\n<br />\nGather with hundreds of anti-hunger advocates on Saturday\, June 3rd at the Cleveland Metroparks Zoo for the 35th anniversary of this all-ages event. Enjoy a scenic route through the Zoo\, whether you choose to run the 5K or walk the 1 mile route. Or\, participate as a spectator to cheer on participants\, or volunteer to help out at this amazing event. All attendees are invited to stay and enjoy a day at the Zoo after the event.<br />\n<br />\nNot able to join us on June 3rd? Register as a virtual runner to support us from wherever you are!<br />\n<br />\nRaise funds. Raise awareness. Raise your voice.<br />\n<br />\nLearn more\, register\, or create a team: https://charity.pledgeit.org/WalkforHunger&nbsp\;
LOCATION:Cleveland Metroparks Zoo
UID:e.3438.710
SEQUENCE:3
DTSTAMP:20260424T224416Z
URL:https://www.rockyriverchamber.com/events/details/member-event-hunger-network-s-walk-for-hunger-5k-run-710
END:VEVENT

END:VCALENDAR
