BEGIN:VCALENDAR
VERSION:2.0
PRODID:-//ChamberMaster//Event Calendar 2.0//EN
METHOD:PUBLISH
X-PUBLISHED-TTL:P3D
REFRESH-INTERVAL:P3D
CALSCALE:GREGORIAN
BEGIN:VEVENT
DTSTART:20220410T180000Z
DTEND:20220410T200000Z
X-MICROSOFT-CDO-ALLDAYEVENT:FALSE
SUMMARY:MEMBER EVENT: Lutheran West Drama presents "Singin' in the Rain"
DESCRIPTION:Lutheran West Drama presents "Singin' in the Rain\," a classic musical production. Don't miss this fantastic show\, coming to the Jochum Performing Arts Center (at Lutheran West) April 8 & 9 at 7PM and April 10 at 2PM. Tickets are available at https://www.lutheranwest.com/tickets
X-ALT-DESC;FMTTYPE=text/html:Lutheran West Drama presents &quot\;Singin&#39\; in the Rain\,&quot\; a classic musical production. Don&#39\;t miss this fantastic show\, coming to the Jochum Performing Arts Center (at Lutheran West) April 8 &amp\; 9 at 7PM and April 10 at 2PM. Tickets are available at https://www.lutheranwest.com/tickets
LOCATION:Lutheran West 3850 Linden Road Rocky River\, OH 44116
UID:e.3438.589
SEQUENCE:3
DTSTAMP:20260426T005344Z
URL:https://www.rockyriverchamber.com/events/details/member-event-lutheran-west-drama-presents-singin-in-the-rain-04-10-2022-589
END:VEVENT

END:VCALENDAR
