BEGIN:VCALENDAR
VERSION:2.0
PRODID:-//ChamberMaster//Event Calendar 2.0//EN
METHOD:PUBLISH
X-PUBLISHED-TTL:P3D
REFRESH-INTERVAL:P3D
CALSCALE:GREGORIAN
BEGIN:VEVENT
DTSTART:20220408T230000Z
DTEND:20220410T010000Z
X-MICROSOFT-CDO-ALLDAYEVENT:FALSE
SUMMARY:MEMBER EVENT: Lutheran West Drama presents 'Singin' in the Rain'
DESCRIPTION:Lutheran West Drama Department presents "Singin' in the Rain\," a classic musical production. Don't miss this fantastic show\, coming to the Jochum Performing Arts Center (at Lutheran West) April 8 & 9 at 7PM and April 10 at 2PM.
X-ALT-DESC;FMTTYPE=text/html:Lutheran West Drama Department presents &quot\;Singin&#39\; in the Rain\,&quot\; a classic musical production. Don&#39\;t miss this fantastic show\, coming to the Jochum Performing Arts Center (at Lutheran West) April 8 &amp\; 9 at 7PM and April 10 at 2PM.
LOCATION:Lutheran West 3850 Linden Road Rocky River\, OH
UID:e.3438.588
SEQUENCE:3
DTSTAMP:20260426T005046Z
URL:https://www.rockyriverchamber.com/events/details/member-event-lutheran-west-drama-presents-singin-in-the-rain-588
END:VEVENT

END:VCALENDAR
