BEGIN:VCALENDAR
VERSION:2.0
PRODID:-//ChamberMaster//Event Calendar 2.0//EN
METHOD:PUBLISH
X-PUBLISHED-TTL:P3D
REFRESH-INTERVAL:P3D
CALSCALE:GREGORIAN
BEGIN:VEVENT
DTSTART:20220331T223000Z
DTEND:20220401T003000Z
X-MICROSOFT-CDO-ALLDAYEVENT:FALSE
SUMMARY:MEMBER EVENT: School Choice Forum: A Community Conversation
DESCRIPTION:Lutheran West in Rocky River is the site for a School Choice Forum\, hosted by Americans for Prosperity\, on Thursday 3/31 beginning at 6:30 PM. Both viewpoints currently being brought forth in Ohio\, including the "Backpack Bill\," will be discussed. A casual dinner will be provided.\n\n\n\nThis is a free event\, but seats are limited\, so registration is recommended. Reserve your seats at https://americansforprosperity.ivolunteers.com/Events/AFP-OH-Buckeye-Blueprint-Education-Reform-Cleveland-Lutheran?email=kmiller%40afphq.org&rsvp=Yes
X-ALT-DESC;FMTTYPE=text/html:Lutheran West in Rocky River is the site for a School Choice Forum\, hosted by Americans for Prosperity\, on Thursday 3/31 beginning at 6:30 PM. Both viewpoints currently being brought forth in Ohio\, including the &quot\;Backpack Bill\,&quot\; will be discussed. A casual dinner will be provided.<br />\n<br />\nThis is a free event\, but seats are limited\, so registration is recommended. Reserve your seats at&nbsp\;<a href="https://americansforprosperity.ivolunteers.com/Events/AFP-OH-Buckeye-Blueprint-Education-Reform-Cleveland-Lutheran?email=kmiller%40afphq.org&amp\;rsvp=Yes">https://americansforprosperity.ivolunteers.com/Events/AFP-OH-Buckeye-Blueprint-Education-Reform-Cleveland-Lutheran?email=kmiller%40afphq.org&amp\;rsvp=Yes</a>
LOCATION:Lutheran West 3850 Linden Road Rocky River\, OH 44116 www.LutheranWest.com
UID:e.3438.593
SEQUENCE:3
DTSTAMP:20260426T022135Z
URL:https://www.rockyriverchamber.com/events/details/member-event-school-choice-forum-a-community-conversation-593
END:VEVENT

END:VCALENDAR
