BEGIN:VCALENDAR
VERSION:2.0
PRODID:-//ChamberMaster//Event Calendar 2.0//EN
METHOD:PUBLISH
X-PUBLISHED-TTL:P3D
REFRESH-INTERVAL:P3D
CALSCALE:GREGORIAN
BEGIN:VEVENT
DTSTART:20201005T040000Z
DTEND:20201104T045500Z
X-MICROSOFT-CDO-ALLDAYEVENT:FALSE
SUMMARY:MEMBER EVENT: Village Project Fall Fundraiser--Express Feedback For Good
DESCRIPTION:HELP US RAISE CRITICAL FUNDS NEEDED TO CONTINUE OUR MISSION BY NOV. 3\, 2020!\nDuring a time when fundraising is challenging\, our clients need us now more than ever.  We are excited to offer an EASY\, FREE and FUN impactful way for you to support the Village Project mission - from the privacy and safety of your own home!\n\n\n\nWe have partnered with Express Feedback For Good \, a platform for people to create funding for a cause in which they are passionate.  Now through November 3rd\, each time you share a brand opinion via Express Feedback for Good\, $2 goes towards Village Project!\n\n	earn $2 per opinion\n	maximum of 75 opinions earns $150 for Village Project - enough to feed a client couple for 3 weeks!\n	your efforts will be matched if we meet our goal of $25\,000\n	must be 18 yrs. old to participate\n	opinions take approximately 60 seconds to complete\n	opinions completed in less than 30 seconds will not be counted\n\nTurn your voice into impact!  Make your opinions count!  * Your personal information will not be shared or sold.
X-ALT-DESC;FMTTYPE=text/html:<h3>HELP US RAISE CRITICAL FUNDS NEEDED TO CONTINUE OUR MISSION BY NOV. 3\, 2020!</h3>\nDuring a time when fundraising is challenging\, our clients need us now more than ever.&nbsp\; We are excited to offer an EASY\, FREE and FUN impactful way for you to support the Village Project mission - from the privacy and safety of your own home!<br />\n<br />\nWe have partnered with Express Feedback For Good&trade\;\, a platform for people to create funding for a cause in which they are passionate.&nbsp\; Now through November 3rd\, each time you share a brand opinion via Express Feedback for Good\, $2 goes towards Village Project!\n<ul>\n	<li>earn $2 per opinion</li>\n	<li>maximum of 75 opinions earns $150 for Village Project - enough to feed a client couple for 3 weeks!</li>\n	<li>your efforts will be matched if we meet our goal of $25\,000</li>\n	<li>must be 18 yrs. old to participate</li>\n	<li>opinions take approximately 60 seconds to complete</li>\n	<li>opinions completed in less than 30 seconds will not be counted</li>\n</ul>\nTurn your voice into impact!&nbsp\; Make your opinions count!&nbsp\; * Your personal information will not be shared or sold.
LOCATION:From the privacy of your own home!
UID:e.3438.449
SEQUENCE:3
DTSTAMP:20260424T101404Z
URL:https://www.rockyriverchamber.com/events/details/member-event-village-project-fall-fundraiser-express-feedback-for-good-449
END:VEVENT

END:VCALENDAR
