BEGIN:VCALENDAR
VERSION:2.0
PRODID:-//ChamberMaster//Event Calendar 2.0//EN
METHOD:PUBLISH
X-PUBLISHED-TTL:P3D
REFRESH-INTERVAL:P3D
CALSCALE:GREGORIAN
BEGIN:VEVENT
DTSTART:20220616T130000Z
DTEND:20220616T140000Z
X-MICROSOFT-CDO-ALLDAYEVENT:FALSE
SUMMARY:Park Clean-Up - 6.16.2022
DESCRIPTION:In 2022\, the Rocky River Chamber is excited to "adopt" Elmwood Park! Our adoption plans included a kick-off day on Saturday\, May 21 where we will lead a team of enthusiastic volunteers to plant multiple flower beds and pick-up trash throughout the park. \n\n\n\nPartnering with The City of Rocky River\, we will continue our community service through the summer with bi-weekly maintenance of the park. We will coordinate additional volunteer efforts of 4-6 individuals to maintain the flower beds and tidy-up the park. These volunteer opportunities can be done by a group of coworkers\, friends or individuals uniting for the common goal of beautification in our community. \n\n\n\nThis effort is being led by the team at Odell Construction! \n\nEmail us at angela@rockyriverchamber.com to lead your own park pick-up day\, or sign up to join the fun as an individual. \n\n\n\nJoin us to beautify our community while meeting new friends and fellow Chamber members! \n\n\n\nThank you to our Planting Day Sponsors: Ground Works Land Design\, Huffman\, Hunt & Klem and Battle & Polly.
X-ALT-DESC;FMTTYPE=text/html:In 2022\, the Rocky River Chamber is excited to &quot\;adopt&quot\; Elmwood Park! Our adoption plans included a kick-off day on Saturday\, May 21 where we will lead a team of enthusiastic volunteers to plant multiple flower beds and pick-up trash throughout the park.&nbsp\;<br />\n<br />\nPartnering with&nbsp\;The City of Rocky River\, we will continue our community service through the summer with bi-weekly maintenance of the park. We will coordinate additional volunteer efforts&nbsp\;of 4-6 individuals to maintain the flower beds and tidy-up the park. These volunteer opportunities can be done by a group of coworkers\, friends or individuals uniting for the common goal of beautification in our community.&nbsp\;<br />\n<br />\n<i>This effort is being led by the team at Odell Construction!&nbsp\;</i><br />\nEmail us at <a href="mailto:angela@rockyriverchamber.com?subject=Bi-Weekly%20Clean-Up">angela@rockyriverchamber.com</a>&nbsp\;to lead your own park pick-up day\,&nbsp\;or sign up to join the fun as an individual.&nbsp\;<br />\n<br />\n<em><strong>Join us to beautify our community while meeting new friends and fellow Chamber members!&nbsp\;</strong></em><br />\n<br />\nThank you to our Planting Day Sponsors: Ground Works Land Design\, Huffman\, Hunt &amp\; Klem and Battle &amp\; Polly.
LOCATION:Elmwood Park 600 Elmwood Road Rocky River 44116
UID:e.3438.600
SEQUENCE:3
DTSTAMP:20260425T173707Z
URL:https://www.rockyriverchamber.com/events/details/park-clean-up-6-16-2022-600
END:VEVENT

END:VCALENDAR
