BEGIN:VCALENDAR
VERSION:2.0
PRODID:-//ChamberMaster//Event Calendar 2.0//EN
METHOD:PUBLISH
X-PUBLISHED-TTL:P3D
REFRESH-INTERVAL:P3D
CALSCALE:GREGORIAN
BEGIN:VEVENT
DTSTART:20241130T150000Z
DTEND:20241130T170000Z
X-MICROSOFT-CDO-ALLDAYEVENT:FALSE
SUMMARY:Ribbon Cutting - Edgewater Surf
DESCRIPTION:Ribbon Cutting Event at Edgewater Surf - Celebrate Small Business Saturday!\n\n\n\nJoin us on Saturday\, November 30th\, from 10:00am-12:00pm for the grand re-opening of Edgewater Surf! \n\n\n\nCome celebrate the start of a new chapter for this beloved local surf shop under new ownership located on Linda Street in Rocky River. In honor of Small Business Saturday\, we're hosting a Ribbon Cutting Ceremony to spotlight our New Member of the Chamber of Commerce!\n\n\n\nEvent Highlights: \n\n	Official Ribbon Cutting with Mayor Bobst at 10:30am\n	Meet the Owner and learn about new offerings\n	Browse exclusive in-store deals and merchandise\n\nThis event is free to attend\, and all are welcome! Whether you're a surf enthusiast or just looking to support local\, stop by and experience what makes Edgewater Surf a staple of our community.
X-ALT-DESC;FMTTYPE=text/html:<span style="font-size:18px\;"><span style="font-family:verdana\;">Ribbon Cutting Event at Edgewater Surf - Celebrate Small Business Saturday!<br />\n<br />\nJoin us on Saturday\, November 30th\, from 10:00am-12:00pm for the grand re-opening of Edgewater Surf!&nbsp\;<br />\n<br />\nCome celebrate the start of a new chapter for this beloved local surf shop under new ownership located on Linda Street in Rocky River. In honor of Small Business Saturday\, we&#39\;re hosting a Ribbon Cutting Ceremony to spotlight our New Member of the Chamber of Commerce!<br />\n<br />\nEvent Highlights:&nbsp\;</span></span>\n<ul>\n	<li><span style="font-size:18px\;"><span style="font-family:verdana\;">Official Ribbon Cutting with Mayor Bobst at 10:30am</span></span></li>\n	<li><span style="font-size:18px\;"><span style="font-family:verdana\;">Meet the Owner and learn about new offerings</span></span></li>\n	<li><span style="font-size:18px\;"><span style="font-family:verdana\;">Browse exclusive in-store deals and merchandise</span></span></li>\n</ul>\n<span style="font-size:18px\;"><span style="font-family:verdana\;">This event is free to attend\, and all are welcome! Whether you&#39\;re a surf enthusiast or just looking to support local\, stop by and experience what makes Edgewater Surf a staple of our community.&nbsp\;</span></span>
LOCATION:Edgewater Surf 1328 Linda St\, Rocky River\, OH 44116
UID:e.3438.3027
SEQUENCE:3
DTSTAMP:20260423T135747Z
URL:https://www.rockyriverchamber.com/events/details/ribbon-cutting-edgewater-surf-3027
END:VEVENT

END:VCALENDAR
