BEGIN:VCALENDAR
VERSION:2.0
PRODID:-//ChamberMaster//Event Calendar 2.0//EN
METHOD:PUBLISH
X-PUBLISHED-TTL:P3D
REFRESH-INTERVAL:P3D
CALSCALE:GREGORIAN
BEGIN:VEVENT
DTSTART:20231202T143000Z
DTEND:20231202T160000Z
X-MICROSOFT-CDO-ALLDAYEVENT:FALSE
SUMMARY:Ribbon-Cutting :: Empowered Health
DESCRIPTION:Join Empowered Health to celebrate their grand opening. They will host the community for an open house and ribbon-cutting on Saturday\, December 2 at 9:30 AM.
X-ALT-DESC;FMTTYPE=text/html:Join Empowered Health to celebrate their grand opening. They will host the community for an open house and ribbon-cutting on Saturday\, December 2 at 9:30 AM.&nbsp\;
LOCATION:Empowered Health 19637 Center Ridge Road Rocky River\, OH 44116
UID:e.3438.758
SEQUENCE:3
DTSTAMP:20260424T102100Z
URL:https://www.rockyriverchamber.com/events/details/ribbon-cutting-empowered-health-758
END:VEVENT

END:VCALENDAR
