BEGIN:VCALENDAR
VERSION:2.0
PRODID:-//ChamberMaster//Event Calendar 2.0//EN
METHOD:PUBLISH
X-PUBLISHED-TTL:P3D
REFRESH-INTERVAL:P3D
CALSCALE:GREGORIAN
BEGIN:VEVENT
DTSTART:20260225T010000Z
DTEND:20260225T040000Z
X-MICROSOFT-CDO-ALLDAYEVENT:FALSE
SUMMARY:RRCC Night at the CAVS
DESCRIPTION:We Have Partnered with the Cleveland Cavaliers for the Rocky River Chamber of Commerce Night on Tuesday February 24th\, Sponsored by State Farm Robbie Anderson! \n\n\n\nCleveland Cavaliers vs. New York Knicks\n\n\n\nWhat's Included? \n\n   The first 40 people will be chosen to hold the American Flag on the court during the National Anthem!\n\n  $10 fundraiser to the Rocky River Chamber for each ticket purchased   *No extra fees/taxes on the tickets*\n\n\n\nTo Purchase tickets\, please use the link below. This ticketing system is specifically for our group. Prices vary depending on where you prefer to sit so you are able to pick any available seats.\n\n\n\nPlease advise\, registering on our site does not reserve a spot for this opportunity. Tickets will need to be purchased through the link below.\n\n\n\n\n\nPURCHASE TICKETS HERE\n\n\n\n*Children over the age of 5 are welcome to participate on the court with supervision from member*
X-ALT-DESC;FMTTYPE=text/html:<div style="text-align: center\;"><br />\n<span style="font-size:24px\;"><span style="font-family:verdana\;">We Have Partnered with the Cleveland Cavaliers for the Rocky River Chamber of Commerce Night on Tuesday February 24th\, Sponsored by State Farm Robbie Anderson!&nbsp\;<br />\n<br />\nCleveland Cavaliers vs. New York Knicks<br />\n<br />\nWhat&rsquo\;s Included? </span></span><br />\n<span style="font-family: verdana\; font-size: 24px\; text-align: center\;">&#8203\;</span><span style="font-family: verdana\; font-size: 24px\; text-align: center\;">&bull\; <strong>The first 40 people will be chosen to hold the American Flag on the court during the National Anthem!</strong></span><br />\n<span style="font-size:24px\;"><span style="font-family:verdana\;">&bull\; $10 fundraiser to the Rocky River Chamber for each ticket purchased &ndash\; *No extra fees/taxes on the tickets*<br />\n<br />\nTo Purchase tickets\, please use the link below. This ticketing system is specifically for our group. Prices vary depending on where you prefer to sit so you are able to pick any available seats.<br />\n<br />\n<u>Please advise\, registering on our site does not reserve a spot for this opportunity. Tickets will need to be purchased through the link below.</u></span></span><br />\n<br />\n<br />\n<span style="font-size:36px\;"><a href="https://www.rocketarena.com/group/detail/rocky-river-chamber-of-commerce-x-cavs-night/"><span style="font-family:verdana\;">PURCHASE TICKETS HERE</span></a></span><br />\n<br />\n*Children over the age of 5 are welcome to participate on the court with supervision from member*</div>\n
LOCATION:Rocket Mortgage Fieldhouse One Center Court Cleveland\, OH
UID:e.3438.3068
SEQUENCE:3
DTSTAMP:20260420T165024Z
URL:https://www.rockyriverchamber.com/events/details/rrcc-night-at-the-cavs-3068
END:VEVENT

END:VCALENDAR
