BEGIN:VCALENDAR
VERSION:2.0
PRODID:-//ChamberMaster//Event Calendar 2.0//EN
METHOD:PUBLISH
X-PUBLISHED-TTL:P3D
REFRESH-INTERVAL:P3D
CALSCALE:GREGORIAN
BEGIN:VEVENT
DTSTART:20220426T160000Z
DTEND:20220426T170000Z
X-MICROSOFT-CDO-ALLDAYEVENT:FALSE
SUMMARY:Spark Your Inner Environmentalist
DESCRIPTION:Spark your inner environmentalist with Little Spark Refill Shop! Meet owner\, Rachel Regula\, as she shares the ins-and-outs of reducing\, reusing and refilling to help eliminate unnecessary chemicals from your life and help the environment. She is the expert\, after all!\n\n\n\nJoin the Rocky River Chamber at Little Spark Refill Shop on Tuesday\, April 26\, in honor of Earth Day! Little Spark Refill Shop offers a convenient shopping experience to refill household essentials and personal care products for the eco-conscious consumer who isn't sure where to start their sustainability journey. At the event\, Regula will speak\, the shop will be open\, and all attendees will receive a boxed lunch from fellow member Gourmet Guy Cafe. \n\n\n\nMore about Rachel Regula\, Owner:\n\nAfter a long journey with her health\, Rachel set out to eliminate excess chemicals from her lifestyle\, but it didn't end there. Rachel continued to educate herself on "clean" and natural products and how the excessive chemicals in bath\, body\, laundry\, and cleaning products are making people just like her very sick. Eliminating these excessive chemicals wasn't just to help the environment  it was a life or death decision for her.\n\n\n\nAfter learning more about how excessive chemicals are harming the land\, the animals\, and the oceans\, she went looking for more ways to make her life more sustainable and stumbled upon a refill shop in another state. She looked for the same concept in Cleveland but she came up at a loss\; Cleveland had no shop dedicated to sustainability\, natural products\, or eliminating plastic waste. It was that moment that Rachel decided she was going to open Cleveland's first refill shop.
X-ALT-DESC;FMTTYPE=text/html:<br />\nSpark your inner environmentalist with Little Spark Refill Shop! Meet owner\, Rachel Regula\, as she shares the ins-and-outs of reducing\, reusing and refilling to help eliminate unnecessary chemicals from your life and help the environment. <em>She is the expert\, after all!</em><br />\n<br />\nJoin the Rocky River Chamber at Little Spark Refill Shop on Tuesday\, April 26\, in honor of Earth Day! Little Spark Refill Shop offers a convenient shopping experience to refill household essentials and personal care products for the eco-conscious consumer&nbsp\;who isn&rsquo\;t sure where to start their sustainability journey.&nbsp\;At the event\, Regula will speak\, the shop will be open\, and all attendees will receive a boxed lunch from fellow member Gourmet Guy Cafe.&nbsp\;<br />\n<br />\n<em>More about Rachel Regula\, Owner:</em><br />\nAfter a long journey with her health\, Rachel set out to eliminate excess chemicals from her lifestyle\, but it didn&#39\;t end there.&nbsp\;Rachel continued to educate herself on &quot\;clean&quot\; and natural products and how the excessive chemicals in bath\, body\, laundry\, and cleaning products are making people just like her very sick.&nbsp\;Eliminating these excessive chemicals wasn&#39\;t just to help the environment&ndash\;&ndash\;it was a life or death decision for her.<br font-size:="" medium="" transat="" />\n<br font-size:="" medium="" transat="" />\nAfter learning more about how excessive chemicals are harming the land\, the animals\, and the oceans\, she went looking for more ways to make her life more sustainable and stumbled upon a refill shop in another state. She looked for the same concept in Cleveland but she came up at a loss\; Cleveland had no shop dedicated to sustainability\, natural products\, or eliminating plastic waste. It was that moment that Rachel decided she was going to open Cleveland&#39\;s first refill shop.
LOCATION:Little Spark Refill Shop 19136 Old Detroit Road Rocky River 44116
UID:e.3438.594
SEQUENCE:3
DTSTAMP:20260425T210826Z
URL:https://www.rockyriverchamber.com/events/details/spark-your-inner-environmentalist-594
END:VEVENT

END:VCALENDAR
