BEGIN:VCALENDAR
VERSION:2.0
PRODID:-//ChamberMaster//Event Calendar 2.0//EN
METHOD:PUBLISH
X-PUBLISHED-TTL:P3D
REFRESH-INTERVAL:P3D
CALSCALE:GREGORIAN
BEGIN:VEVENT
DTSTART:20220521T130000Z
DTEND:20220521T150000Z
X-MICROSOFT-CDO-ALLDAYEVENT:FALSE
SUMMARY:Strengthening our Roots: Planting Day 2022
DESCRIPTION:We will be partnering with the City of Rocky River and Ground Works Land Design to host a morning where we can "strengthen our roots" in the community. This year\, the focus will be on Elmwood Park in Rocky River\, planting flowers and tidying-up the park on Saturday\, May 21\, 2022.\n\n\n\nThis event will be open to families and all community members and their green thumbs! Donuts + coffee will be provided. Thank you to our sponsors\, Battle & Polly\, Ground Works Land Design and Huffman Hunt & Klym.\n\nThis will serve as a kick-off to a summer long "adoption" program of Elmwood Park. The Chamber will coordinate teams of volunteers to pick-up trash + weed our flowers beds throughout the summer. To get involved and learn more about this effort - email us!\n\n\n\nPlease RSVP as the Chamber strives to prepare for the proper amount of volunteers.\n\n\n\nFor photos from Planting Day 2021 at Rocky River Park - click here!
X-ALT-DESC;FMTTYPE=text/html:<p><br />\nWe will be partnering with the City of Rocky River and <a href="https://www.rockyriverchamber.com/list/member/ground-works-land-design-3707">Ground Works Land Design</a>&nbsp\;to host a morning where we can &quot\;strengthen our roots&quot\; in the community. This year\, the focus will be on Elmwood Park in Rocky River\, planting flowers and tidying-up the park on Saturday\, May 21\, 2022.<br />\n<br />\nThis event will be open to families and all community members and their green thumbs! Donuts + coffee will be provided. <strong>Thank you to our sponsors\, Battle &amp\; Polly\, Ground Works Land Design and Huffman Hunt &amp\; Klym.</strong></p>\n\n<p>This will serve as a kick-off to a summer long &quot\;adoption&quot\; program of Elmwood Park. The Chamber will coordinate teams of volunteers to pick-up trash + weed our flowers beds throughout the summer.<em> To get involved and learn more about this effort - <a href="mailto:info@rockyriverchamber.com?subject=Planting%20Day">email us!</a></em><br />\n<br />\nPlease RSVP as the Chamber strives to prepare for the proper amount of volunteers.<br />\n<br />\nFor photos&nbsp\;from Planting Day 2021 at Rocky River Park - <a href="https://www.facebook.com/media/set/?set=a.10159659864353756&amp\;type=3"><em>click here!</em></a></p>\n
LOCATION:Elmwood Park 600 Elmwood Road Rocky River 44116
UID:e.3438.568
SEQUENCE:3
DTSTAMP:20260425T192705Z
URL:https://www.rockyriverchamber.com/events/details/strengthening-our-roots-planting-day-2022-568
END:VEVENT

END:VCALENDAR
