BEGIN:VCALENDAR
VERSION:2.0
PRODID:-//ChamberMaster//Event Calendar 2.0//EN
METHOD:PUBLISH
X-PUBLISHED-TTL:P3D
REFRESH-INTERVAL:P3D
CALSCALE:GREGORIAN
BEGIN:VEVENT
DTSTART:20220505T160000Z
DTEND:20220505T170000Z
X-MICROSOFT-CDO-ALLDAYEVENT:FALSE
SUMMARY:Supply Chain: Where Are We Now?
DESCRIPTION:"Where's My Stuff?" A Supply Chain Update from World Group \n\n\n\nWorld Group is a transportation and logistics organization with global reach and a local presence. Headquartered right in here in Rocky River\, the company has over 700 employees across the United States and Brazil\, and has been in the thick of the global supply chain issues of the last few years.\n\n \n\nLast October\, chamber luncheon guests got to learn a bit about why the supply chain snarls had become front-page news throughout 2020 and 2021. This time we'll go even further to understand how the supply chain is flowing (or not!) these days. Take some time to get your questions answered.\n\n \n\nPanelists include:\n\n	Fred Hunger - Chairman\, World Group\n	Jackie Csiszar - VP of Customer Experience\, ContainerPort Group\n	Evan Hartman - Senior VP of International Operations\, UWL\n\nMeal selections include:\n\nCaesar Salad\n\nChicken Salad on Croissant\n\n\n\nLearn more about Fred Hunger - Chairman\, World Group:\n\nFred Hunger is the Chairman of World Group\, and has oversight over all operating companies. A native of Rocky River\, he has been with the company in a formal capacity for over 30 years\, and is engaged in both day-to-day business planning as well as long-term strategy. is pleased to carry on the family tradition\, as his father\, Jack E. Hunger\, founded World Shipping over 60 years ago.
X-ALT-DESC;FMTTYPE=text/html:<br />\n<strong>&quot\;Where&#39\;s My Stuff?&quot\; <em>A Supply Chain Update from World Group&nbsp\;</em></strong><br />\n<br />\nWorld Group is a transportation and logistics organization with global reach and a local presence. Headquartered right in here in Rocky River\, the company has over 700 employees across the United States and Brazil\, and has been in the thick of the global supply chain issues of the last few years.<br />\n&nbsp\;<br />\nLast October\, chamber luncheon guests got to learn a bit about why the supply chain snarls had become front-page news throughout 2020 and 2021. This time we&#39\;ll go even further to understand how the supply chain is flowing (or not!) these days. Take some time to get your questions answered.<br />\n&nbsp\;<br />\nPanelists include:\n<ul>\n	<li style="vertical-align:middle\;">Fred Hunger - Chairman\, World Group</li>\n	<li style="vertical-align:middle\;">Jackie Csiszar - VP of Customer Experience\, ContainerPort Group</li>\n	<li style="vertical-align:middle\;">Evan Hartman - Senior VP of International Operations\, UWL</li>\n</ul>\n<em>Meal selections include:<br />\nCaesar Salad<br />\nChicken Salad on Croissant</em><br />\n<br />\n<strong>Learn more about Fred Hunger - Chairman\, World Group:</strong><br />\nFred Hunger is the Chairman of World Group\, and has oversight over all operating companies. A native of Rocky River\, he has been with the company in a formal capacity for over 30 years\, and is engaged in both day-to-day business planning as well as long-term strategy. is pleased to carry on the family tradition\, as his father\, Jack E. Hunger\, founded World Shipping over 60 years ago.<br />\n&nbsp\;
LOCATION:The Clifton Club 17884 Lake Road Lakewood\, OH 44107
UID:e.3438.557
SEQUENCE:3
DTSTAMP:20260425T191941Z
URL:https://www.rockyriverchamber.com/events/details/supply-chain-where-are-we-now-557
END:VEVENT

END:VCALENDAR
