BEGIN:VCALENDAR
VERSION:2.0
PRODID:-//ChamberMaster//Event Calendar 2.0//EN
METHOD:PUBLISH
X-PUBLISHED-TTL:P3D
REFRESH-INTERVAL:P3D
CALSCALE:GREGORIAN
BEGIN:VEVENT
DTSTART:20220625T200000Z
DTEND:20220626T000000Z
X-MICROSOFT-CDO-ALLDAYEVENT:FALSE
SUMMARY:Taste of River 2022
DESCRIPTION:Taste of River is a family-friendly culinary festival! And\, this year\, we are taking it to the streets for an epic celebration of our community's culinary scene.\n\n\n\nTaste of River offers attendees the opportunity to try new "eats & treats" offered by the wonderful restaurants and food providers in our community.\n\n\n\nYou won't want to miss this food celebration on Saturday\, June 25\, 2022 at the new* time of 4:00-8:00PM. The event will feature live music by Dock Holiday and School of Rock! Additional entertainment by RW Magic\, along with face painters and a balloon artist.\n\n\n\nAre you a restaurant interested in participating? Click here to let us know!\n\nInterested in volunteering? Click here to let us know!\n\n\n\nRestaurants confirmed for drinks + eats:  \n\nAl Pita Mediterranean Cuisine\n\nBeardens\n\nBigmouth Donut Company\n\nBOMBA Taco + Rum\n\nBucci's Italian Restaurant\n\nBuffalo Wild Wings\n\nCarlittas Gourmet Java Bistro\n\nChick-fil-A\n\nJersey Mikes Subs\n\nKing Wah Restaurant\n\nKona Ice of Westlake\n\nLake Road Market\n\nMarket + Rocky River Wine Bar\n\nOld River Tap & Social\n\nSakana Sushi Bar and Lounge \n\n\n\nJoin us for the fun + food!\n\nParking is available at Rocky River Middle School\, and a free shuttle will be available to the event at 1250 Linda Street. The shuttle will be provided by The Welsh Home.
X-ALT-DESC;FMTTYPE=text/html:<p>Taste of River is a family-friendly culinary festival! And\, this year\, we are taking it to the streets for an epic celebration of our community&#39\;s culinary scene.<br />\n<br />\nTaste of River offers attendees the opportunity to try new &quot\;eats &amp\; treats&quot\; offered by the wonderful restaurants and food providers in our community.<br />\n<br />\nYou won&#39\;t want to miss this food celebration on Saturday\, June 25\, 2022 at the new* time of 4:00-8:00PM. The event will feature live music by Dock Holiday and School of Rock! Additional entertainment by RW Magic\, along with face painters and a balloon artist.<br />\n<br />\n<em>Are you a restaurant interested in participating?&nbsp\;<a href="mailto:laure@rockyriverchamber.com?subject=Taste%20of%20River%20Restaurant">Click here</a>&nbsp\;to let us know!<br />\nInterested in volunteering? <a href="mailto:laure@rockyriverchamber.com?subject=Taste%20of%20River%20Volunteer">Click here</a> to let us know!</em><br />\n<br />\nRestaurants confirmed for drinks + eats:&nbsp\;&nbsp\;<br />\n<em>Al Pita Mediterranean Cuisine<br />\nBeardens<br />\nBigmouth Donut Company<br />\nBOMBA&nbsp\;Taco&nbsp\;+&nbsp\;Rum<br />\nBucci&#39\;s Italian Restaurant<br />\nBuffalo Wild Wings<br />\nCarlittas Gourmet Java Bistro<br />\nChick-fil-A<br />\nJersey Mikes Subs<br />\nKing Wah Restaurant<br />\nKona Ice of Westlake<br />\nLake Road Market<br />\nMarket + Rocky River Wine Bar<br />\nOld River Tap &amp\; Social<br />\nSakana Sushi Bar and Lounge&nbsp\;</em><br />\n<br />\n<strong>Join us for the fun + food!</strong></p>\n\n<p>Parking is available at Rocky River Middle School\, and a free shuttle will be available to the event at 1250 Linda Street. The shuttle will be provided by The Welsh Home.</p>\n\n<table border="0" cellpadding="0" cellspacing="0" style="border-collapse:collapse\;width:627px\;" width="626">\n	<colgroup>\n		<col style="width:627px\;" />\n	</colgroup>\n	<tbody>\n	</tbody>\n</table>\n
LOCATION:1250 Linda Street Rocky River 44116
UID:e.3438.554
SEQUENCE:3
DTSTAMP:20260425T173700Z
URL:https://www.rockyriverchamber.com/events/details/taste-of-river-2022-554
END:VEVENT

END:VCALENDAR
