BEGIN:VCALENDAR
VERSION:2.0
PRODID:-//ChamberMaster//Event Calendar 2.0//EN
METHOD:PUBLISH
X-PUBLISHED-TTL:P3D
REFRESH-INTERVAL:P3D
CALSCALE:GREGORIAN
BEGIN:VEVENT
DTSTART:20230617T200000Z
DTEND:20230618T010000Z
X-MICROSOFT-CDO-ALLDAYEVENT:FALSE
SUMMARY:Taste of River 2023
DESCRIPTION:Who's hungry?! Join us for this epic foodie celebration!\n\nBearden's\, Bigmouth Donut Co.\, BOMBA Taco + Bar\, Bucci's Italian Restaurant\, Buffalo Wild Wings\, Chick-fil-A\, Cleveland Ketchup\, Danny Boys Pizza\, Gunselman's TO GO\, Handel's Ice Cream\, Jersey Mike's Subs\, King Wah Restaurant\, Kona Ice\, Lake Road Market\, Market\, Mr. Crisp Pickle Co.\, Old River Tap and Social\, PSI Legacy Food\, Salmon Dave's\, Sakana Sushi Bar and Lounge\, and Taza\n\nTaste of River will return to Linda Street in 2023!\n\nThe Rocky River Chamber will bring the party back to the streets featuring our restaurant community for a family-friendly culinary festival. \n\n\n\nAfter an epic celebration of our community's culinary scene in 2022\, welcome thousands of attendees\, we are thrilled to be expanding the event and we hope to see you there!\n\n\n\nYou won't want to miss this food celebration on Saturday\, June 17\, 2023 from 4:00-9:00PM. The event will feature live music by Faith & Whiskey and School of Rock\, plus family-fun\, with RW Magic\, face painters\, With a Twist Balloons.\n\n\n\nRestaurant slots are SOLD OUT.\n\nAre you interested in sponsoring the event? Click here to read about the different levels and opportunities!\n\nInterested in volunteering? Click here to let us know!\n\n \n\nWho's hungry?! Join us for this epic foodie celebration!\n\nBearden's\n\nBigmouth Donut Co.\n\nBOMBA Taco + Bar\n\nBucci's Italian Restaurant\n\nBuffalo Wild Wings\n\nChick-fil-A\n\nCleveland Ketchup\n\nDanny Boys Pizza\n\nGunselman's TO GO\n\nHandel's Ice Cream\n\nJersey Mike's Subs\n\nKing Wah Restaurant\n\nKona Ice\n\nLake Road Market\n\nMarket/Rocky River Wine Bar\n\nMr. Crisp Pickle Co.\n\nOld River Tap and Social\n\nPSI Legacy Food\n\nSalmon Dave's\n\nSakana Sushi Bar and Lounge\n\nTaza\n\n\n\nGold Sponsors:\n\nCox Business\n\nEarnest Machine \n\n\n\nSilver Sponsors:\n\nFoote Printing\n\nHoward Hanna - SALEmaker Team\n\nLatina Design Build Group\n\nMimi Vanderhaven\n\nSpooner Risk Control\n\nThe Krueger Group\n\nTito's Handmade Vodka\n\nTri-C Westshore Campus Hospitality Management Program\n\nWorld Group\n\n\n\nBronze Sponsors:\n\nAndrako Insurance\n\nBattle & Polly \n\nBigmouth Donut Company\n\nCleveland Magazine\n\nCoca-Cola\n\nGuaranteed Rate\n\nHowlers Design\n\nKoBrand Fine Wine and Spirits\n\nLamar\n\nNorthern Title Agency\n\nPet People\n\nRocky River Brewing Co.\n\nRocky River Wine Bar\n\nThe Cleveland Womens Journal\n\nWestLife News\n\n\n\nFirst Aid Tent Sponsor:\n\nCleveland Clinic Fairview Hospital Wellness Center\n\n\n\nPet Tent Sponsor:\n\nState Farm Insurance - Robbie Anderson
X-ALT-DESC;FMTTYPE=text/html:<p class="_04xlpA direction-ltr align-center para-style-body" style="color: rgb(27\, 54\, 93)\; font-family: &quot\;YAD7QhG2T6o 0&quot\;\, _fb_\, auto\; --font-size: 19.9993px\; --line-height: 1.24\; letter-spacing: -0.041em\; line-height: 24px\;"><span class="WdYUQQ text-decoration-none text-strikethrough-none" style="font-weight: 700\; font-style: italic\;">Who&#39\;s hungry?!</span><span class="WdYUQQ text-decoration-none text-strikethrough-none" style="font-weight: 700\;"> Join us for this epic foodie celebration!</span></p>\n\n<p class="_04xlpA direction-ltr align-center para-style-body" style="color: rgb(27\, 54\, 93)\; font-family: &quot\;YAD7QhG2T6o 0&quot\;\, _fb_\, auto\; --font-size: 19.9993px\; --line-height: 1.24\; letter-spacing: -0.041em\; line-height: 24px\;"><span class="WdYUQQ text-decoration-none text-strikethrough-none">Bearden&#39\;s\, Bigmouth Donut Co.\, BOMBA Taco + Bar\, Bucci&#39\;s Italian Restaurant\, Buffalo Wild Wings\, Chick-fil-A\, Cleveland Ketchup\, Danny Boys Pizza\, Gunselman&#39\;s TO GO\, Handel&#39\;s Ice Cream\, Jersey Mike&#39\;s Subs\, King Wah Restaurant\, Kona Ice\, Lake Road Market\, Market\, Mr. Crisp Pickle Co.\, Old River Tap and Social\, PSI Legacy Food\, Salmon Dave&#39\;s\, Sakana Sushi Bar and Lounge\, and Taza</span></p>\n\n<p><em><strong>Taste of River&nbsp\;will return to Linda Street in 2023!</strong></em><br />\nThe Rocky River Chamber will bring the party back to&nbsp\;the streets featuring&nbsp\;our restaurant community for a family-friendly culinary festival.&nbsp\;<br />\n<br />\nAfter&nbsp\;an epic celebration of our community&#39\;s culinary scene in 2022\, welcome thousands of attendees\, we are thrilled to be expanding the event and we hope to see you there!<br />\n<br />\nYou won&#39\;t want to miss this food celebration on Saturday\, June 17\, 2023&nbsp\;from 4:00-9:00PM. The event will feature live music by Faith &amp\; Whiskey and School of Rock\, plus&nbsp\;family-fun\, with&nbsp\;RW Magic\,&nbsp\;face painters\, With a Twist Balloons.<br />\n<br />\n<em>Restaurant slots are SOLD OUT.<br />\nAre you interested in sponsoring the event? <a href="https://chambermaster.blob.core.windows.net/userfiles/UserFiles/chambers/3438/CMS/signature_events/TASTE2023Sponsorship.pdf">Click here</a> to read about the different levels and opportunities!<br />\nInterested in volunteering? <a href="mailto:info@rockyriverchamber.com?subject=Taste%20of%20River%20Volunteer">Click here</a> to let us know!</em><br />\n&nbsp\;</p>\n\n<p --font-size:="" --line-height:="" class="_04xlpA direction-ltr align-center para-style-body" letter-spacing:="" line-height:="" style="color: rgb(27\, 54\, 93)\; font-family: " yad7qhg2t6o=""><span class="WdYUQQ text-decoration-none text-strikethrough-none" style="font-weight: 700\; font-style: italic\;">Who&#39\;s hungry?!</span><span class="WdYUQQ text-decoration-none text-strikethrough-none" style="font-weight: 700\;"> Join us for this epic foodie celebration!</span><br />\n<span class="WdYUQQ text-decoration-none text-strikethrough-none">Bearden&#39\;s<br />\nBigmouth Donut Co.<br />\nBOMBA Taco + Bar<br />\nBucci&#39\;s Italian Restaurant<br />\nBuffalo Wild Wings<br />\nChick-fil-A<br />\nCleveland Ketchup<br />\nDanny Boys Pizza<br />\nGunselman&#39\;s TO GO<br />\nHandel&#39\;s Ice Cream<br />\nJersey Mike&#39\;s Subs<br />\nKing Wah Restaurant<br />\nKona Ice<br />\nLake Road Market<br />\nMarket/Rocky River Wine Bar<br />\nMr. Crisp Pickle Co.<br />\nOld River Tap and Social<br />\nPSI Legacy Food<br />\nSalmon Dave&#39\;s<br />\nSakana Sushi Bar and Lounge<br />\nTaza</span></p>\n\n<p><br />\n<em><strong>Gold Sponsors:</strong><br />\nCox Business<br />\nEarnest Machine&nbsp\;<br />\n<br />\n<strong>Silver Sponsors:</strong><br background-color:="" font-size:="" trebuchet="" />\nFoote Printing<br background-color:="" font-size:="" trebuchet="" />\nHoward Hanna - SALEmaker Team<br background-color:="" font-size:="" trebuchet="" />\nLatina Design Build Group<br />\nMimi Vanderhaven<br background-color:="" font-size:="" trebuchet="" />\nSpooner Risk Control<br background-color:="" font-size:="" trebuchet="" />\nThe Krueger Group<br background-color:="" font-size:="" trebuchet="" />\nTito&#39\;s Handmade Vodka<br background-color:="" font-size:="" trebuchet="" />\nTri-C Westshore Campus&nbsp\;Hospitality Management Program<br background-color:="" font-size:="" trebuchet="" />\nWorld Group<br background-color:="" font-size:="" trebuchet="" />\n<br background-color:="" font-size:="" trebuchet="" />\n<strong>Bronze Sponsors:</strong><br background-color:="" font-size:="" trebuchet="" />\nAndrako Insurance<br background-color:="" font-size:="" trebuchet="" />\nBattle &amp\; Polly&nbsp\;<br background-color:="" font-size:="" trebuchet="" />\nBigmouth Donut Company<br background-color:="" font-size:="" trebuchet="" />\nCleveland Magazine<br background-color:="" font-size:="" trebuchet="" />\nCoca-Cola<br background-color:="" font-size:="" trebuchet="" />\nGuaranteed Rate<br background-color:="" font-size:="" trebuchet="" />\nHowlers&nbsp\;Design<br background-color:="" font-size:="" trebuchet="" />\nKoBrand Fine Wine and Spirits<br background-color:="" font-size:="" trebuchet="" />\nLamar<br background-color:="" font-size:="" trebuchet="" />\nNorthern Title Agency<br background-color:="" font-size:="" trebuchet="" />\nPet People<br background-color:="" font-size:="" trebuchet="" />\nRocky River Brewing Co.<br background-color:="" font-size:="" trebuchet="" />\nRocky River Wine Bar<br background-color:="" font-size:="" trebuchet="" />\nThe Cleveland&nbsp\;Womens Journal<br background-color:="" font-size:="" trebuchet="" />\nWestLife News<br />\n<br />\n<strong>First Aid Tent Sponsor:</strong><br />\nCleveland Clinic Fairview Hospital Wellness Center<br />\n<br />\n<strong>Pet Tent Sponsor:</strong><br />\nState Farm Insurance - Robbie Anderson</em></p>\n\n<table border="0" cellpadding="0" cellspacing="0" style="border-collapse:collapse\;width:627px\;" width="626">\n	<colgroup>\n		<col style="width:627px\;" />\n	</colgroup>\n	<tbody>\n	</tbody>\n</table>\n
LOCATION:1250 Linda Street Rocky River 44116
UID:e.3438.612
SEQUENCE:3
DTSTAMP:20260424T192429Z
URL:https://www.rockyriverchamber.com/events/details/taste-of-river-2023-612
END:VEVENT

END:VCALENDAR
