BEGIN:VCALENDAR
VERSION:2.0
PRODID:-//ChamberMaster//Event Calendar 2.0//EN
METHOD:PUBLISH
X-PUBLISHED-TTL:P3D
REFRESH-INTERVAL:P3D
CALSCALE:GREGORIAN
BEGIN:VEVENT
DTSTART:20240615T200000Z
DTEND:20240616T010000Z
X-MICROSOFT-CDO-ALLDAYEVENT:FALSE
SUMMARY:Taste of River 2024
DESCRIPTION:Who's hungry?! Join us for this epic foodie celebration!\n\nTaste of River will return to Linda Street in 2024!\n\nThe Rocky River Chamber will bring the party back to the streets featuring our restaurant community for a family-friendly culinary festival. \n\n\n\nAfter an epic celebration of our community's culinary scene in 2023\, welcome thousands of attendees\, we are thrilled to be expanding the event and we hope to see you there!\n\n\n\nYou won't want to miss this food celebration on Saturday\, June 15\, 2024 from 4:00-9:00PM. The event will feature live music\, plus family-fun!\n\n\n\nAre you interested in sponsoring or being a vendor at the event? Click here to learn more. Contact us if you are interested in being a Presenting Sponsor.\n\n\n\nInterested in volunteering? Click here to let us know.
X-ALT-DESC;FMTTYPE=text/html:<p class="_04xlpA direction-ltr align-center para-style-body" style="color: rgb(27\, 54\, 93)\; font-family: &quot\;YAD7QhG2T6o 0&quot\;\, _fb_\, auto\; --font-size: 19.9993px\; --line-height: 1.24\; letter-spacing: -0.041em\; line-height: 24px\;"><span class="WdYUQQ text-decoration-none text-strikethrough-none" style="font-weight: 700\; font-style: italic\;">Who&#39\;s hungry?!</span><span class="WdYUQQ text-decoration-none text-strikethrough-none" style="font-weight: 700\;"> Join us for this epic foodie celebration!</span></p>\n\n<p><em><strong>Taste of River&nbsp\;will return to Linda Street in 2024!</strong></em><br />\nThe Rocky River Chamber will bring the party back to&nbsp\;the streets featuring&nbsp\;our restaurant community for a family-friendly culinary festival.&nbsp\;<br />\n<br />\nAfter&nbsp\;an epic celebration of our community&#39\;s culinary scene in 2023\, welcome thousands of attendees\, we are thrilled to be expanding the event and we hope to see you there!<br />\n<br />\nYou won&#39\;t want to miss this food celebration on Saturday\, June 15\, 2024&nbsp\;from 4:00-9:00PM. The event will feature live music\, plus&nbsp\;family-fun!<br />\n<br />\n<em>Are you interested in sponsoring or being a vendor at the event? <a href="https://www.rockyriverchamber.com/taste-of-river">Click here</a> to learn more. <a href="mailto:info@rockyriverchamber.com?subject=Taste%20of%20River%20Presenting%20Sponsor%20Inquiry">Contact us</a> if you are interested in being a Presenting Sponsor.<br />\n<br />\nInterested in volunteering? <a href="mailto:info@rockyriverchamber.com?subject=Taste%20of%20River%20Volunteer">Click here</a> to let us know.</em></p>\n\n<table border="0" cellpadding="0" cellspacing="0" style="border-collapse:collapse\;width:627px\;" width="626">\n	<colgroup>\n		<col style="width:627px\;" />\n	</colgroup>\n	<tbody>\n	</tbody>\n</table>\n
LOCATION:1250 Linda Street Rocky River 44116
UID:e.3438.753
SEQUENCE:3
DTSTAMP:20260424T001845Z
URL:https://www.rockyriverchamber.com/events/details/taste-of-river-2024-753
END:VEVENT

END:VCALENDAR
