BEGIN:VCALENDAR
VERSION:2.0
PRODID:-//ChamberMaster//Event Calendar 2.0//EN
METHOD:PUBLISH
X-PUBLISHED-TTL:P3D
REFRESH-INTERVAL:P3D
CALSCALE:GREGORIAN
BEGIN:VEVENT
DTSTART:20240614T210000Z
DTEND:20240614T220000Z
X-MICROSOFT-CDO-ALLDAYEVENT:FALSE
SUMMARY:Taste of River - Volunteer Meeting - In Person
DESCRIPTION:Thank you to all of our Volunteers for the 2024 Taste of River! \n\n\n\nWe will be holding a Required Volunteer Meeting on June 14th from 5:00pm - 6:00pm at 1250 Linda Street\, Rocky River. This meeting is to go over all of our logistics to the event including\, Credit Card Systems\, Site Plan Overview\, T-shirt distribution\, Emergency Plans\, Waste Collection\, and any other outstanding questions. Please kindly request all of our volunteers presence at this meeting.
X-ALT-DESC;FMTTYPE=text/html:Thank you to all of our Volunteers for the 2024 Taste of River!&nbsp\;<br />\n<br />\nWe will be holding a Required Volunteer Meeting on June 14th from 5:00pm - 6:00pm at 1250 Linda Street\, Rocky River. This meeting is to go over all of our logistics to the event including\, Credit Card Systems\, Site Plan Overview\, T-shirt distribution\, Emergency Plans\, Waste Collection\, and any other outstanding questions. Please kindly request all of our volunteers presence at this meeting.&nbsp\;<br />\n&nbsp\;
LOCATION:Taste of River Location / Earnest Machine Building 1250 Linda Street Rocky River\, OH
UID:e.3438.2205
SEQUENCE:3
DTSTAMP:20260423T224036Z
URL:https://www.rockyriverchamber.com/events/details/taste-of-river-volunteer-meeting-in-person-2205
END:VEVENT

END:VCALENDAR
